Workbook

Sheet 汇总表
A1: 附件：
A2: 2022年中央转移支付资金拟下达（第二批）分配汇总表
F3: 单位：万元
A4: 序号 | B4: 辖区 | C4: 合计 | D4: 中央农业生产发展专项 | E4: 中央农业资源及生态保护补助专项 | F4: 中央动物防疫等补助经费
A6: 合计 | C6: =SUM(D6:F6) -> 1982.38 | D6: =SUM(D7:D13) -> 1860.6 | E6: =SUM(E7:E13) -> 56 | F6: =SUM(F7:F13) -> 65.78
A7: 1 | B7: 金坛区 | C7: =SUM(D7:F7) -> 1012.406 | D7: =中央农业生产发展专项!C7 -> 941.7 | E7: =中央农业资源及生态保护补助专项!C7 -> 22.1 | F7: =中央动物防疫等补助经费!C7 -> 48.606
A8: 2 | B8: 武进区 | C8: =SUM(D8:F8) -> 748.476 | D8: =中央农业生产发展专项!C8 -> 719 | E8: =中央农业资源及生态保护补助专项!C8 -> 17 | F8: =中央动物防疫等补助经费!C8 -> 12.476
A9: 3 | B9: 新北区 | C9: =SUM(D9:F9) -> 177.492 | D9: =中央农业生产发展专项!C9 -> 158 | E9: =中央农业资源及生态保护补助专项!C9 -> 16.9 | F9: =中央动物防疫等补助经费!C9 -> 2.592
A10: 4 | B10: 天宁区 | C10: =SUM(D10:F10) -> 7.386 | D10: =中央农业生产发展专项!C10 -> 6.9 | E10: =中央农业资源及生态保护补助专项!C10 -> 0 | F10: =中央动物防疫等补助经费!C10 -> 0.486
A11: 5 | B11: 钟楼区 | C11: =SUM(D11:F11) -> 0 | D11: =中央农业生产发展专项!C11 -> 0 | E11: =中央农业资源及生态保护补助专项!C11 -> 0 | F11: =中央动物防疫等补助经费!C11 -> 0
A12: 6 | B12: 经开区 | C12: =SUM(D12:F12) -> 8.62 | D12: =中央农业生产发展专项!C12 -> 7 | E12: =中央农业资源及生态保护补助专项!C12 -> 0 | F12: =中央动物防疫等补助经费!C12 -> 1.62
A13: 7 | B13: 农业农村局 本级 | C13: =SUM(D13:F13) -> 28 | D13: =中央农业生产发展专项!C13 -> 28 | E13: =中央农业资源及生态保护补助专项!C13 -> 0 | F13: =中央动物防疫等补助经费!C13 -> 0

Sheet 中央农业生产发展专项
A1: 附件：
A2: 2022年中央农业生产发展专项拟下达分配资金明细表
K3: 单位：万元
A4: 序号 | B4: 辖区 | C4: 合计 | D4: 地理标志农产品保护工程 | E4: 高素质农民培育 | F4: 基层农技推广补助项目 | G4: ﹡农机购置补贴 | H4: 全程机械化+综合农事服务中心建设 | I4: 实施重点作物绿色高质高效行动 | J4: 支持家庭农场和农民合作社能力提升 | K4: 国家级畜禽核心育种场（基地）种畜禽生产性能测定
C5: 本次下达（1860.6） | D5: 本次下达（472） | E5: 本次下达（56） | F5: 本次下达（279.6） | G5: 本次下达（202） | H5: 本次下达（160） | I5: 本次下达（400） | J5: 本次下达（127） | K5: 本次下达（164）
A6: 合计 | C6: =SUM(D6:K6) -> 1860.6 | D6: =SUM(D7:D13) -> 472 | E6: =SUM(E7:E13) -> 56 | F6: =SUM(F7:F13) -> 279.6 | G6: =SUM(G7:G13) -> 202 | H6: =SUM(H7:H13) -> 160 | I6: =SUM(I7:I13) -> 400 | J6: =SUM(J7:J13) -> 127 | K6: =SUM(K7:K13) -> 164
A7: 1 | B7: 金坛区 | C7: =SUM(D7:K7) -> 941.7 | E7: 28 | F7: 144.7 | G7: 165 | H7: 40 | I7: 400 | K7: 164
A8: 2 | B8: 武进区 | C8: =SUM(D8:K8) -> 719 | D8: 472 | F8: 86.9 | G8: 0 | H8: 40 | J8: 120.1
A9: 3 | B9: 新北区 | C9: =SUM(D9:K9) -> 158 | F9: 48 | G9: 30 | H9: 80
A10: 4 | B10: 天宁区 | C10: =SUM(D10:K10) -> 6.9 | G10: 0 | J10: 6.9
A11: 5 | B11: 钟楼区 | C11: =SUM(D11:K11) -> 0 | G11: 0
A12: 6 | B12: 经开区 | C12: =SUM(D12:K12) -> 7 | G12: 7
A13: 7 | B13: 农业农村局 本级 | C13: =SUM(D13:K13) -> 28 | E13: 28
A14: 责 任 处 室 | D14: 质监处 | E14: 科教处28万 农机28万 | F14: 科教处 | G14: 农机处 | I14: 推广中心 | J14: 合作处 | K14: 畜牧兽医处
A15: 备注：1、“＊”为约束性任务。2、支持家庭农场和农民合作社能力提升项目根据常财农〔2021〕86号文件中资金下达明细及备注说明，本次补齐2021年度示范主体培育项目缺口资金127万元（武进120.1万元、天宁区6.9万元）。

Sheet 中央农业资源及生态保护补助专项
A1: 附件：
A2: 2022年中央农业资源及生态保护专项拟下达分配资金明细表
D3: 单位：万元
A4: 序号 | B4: 辖区 | C4: 合计 | D4: 化肥减量增效
C5: 本次下达（56） | D5: 本次下达（56）
A6: 合计 | C6: =SUM(D6:D6) -> 56 | D6: =SUM(D7:D13) -> 56
A7: 1 | B7: 金坛区 | C7: =SUM(D7:D7) -> 22.1 | D7: 22.1
A8: 2 | B8: 武进区 | C8: =SUM(D8:D8) -> 17 | D8: 17
A9: 3 | B9: 新北区 | C9: =SUM(D9:D9) -> 16.9 | D9: 16.9
A10: 4 | B10: 天宁区
A11: 5 | B11: 钟楼区
A12: 6 | B12: 经开区
A13: 7 | B13: 农业农村局 本级
A14: 责 任 处 室 | D14: 推广中心

Sheet 中央动物防疫等补助经费
A1: 附件：
A2: 2022年中央动物防疫等补助经费资金拟下达分配明细表
D3: 单位：万元
A4: 序号 | B4: 辖区 | C4: 合计 | D4: 动物强制免疫
C5: 本次下达（65.78） | D5: 本次下达（65.78）
A6: 合计 | C6: =SUM(D6:D6) -> 65.78 | D6: =SUM(D7:D13) -> 65.78
A7: 1 | B7: 金坛区 | C7: =SUM(D7:D7) -> 48.606 | D7: 48.606
A8: 2 | B8: 武进区 | C8: =SUM(D8:D8) -> 12.476 | D8: 12.476
A9: 3 | B9: 新北区 | C9: =SUM(D9:D9) -> 2.592 | D9: 2.592
A10: 4 | B10: 天宁区 | C10: =SUM(D10:D10) -> 0.486 | D10: 0.486
A11: 5 | B11: 钟楼区 | C11: =SUM(D11:D11) -> 0 | D11: 0
A12: 6 | B12: 经开区 | C12: =SUM(D12:D12) -> 1.62 | D12: 1.62
A13: 7 | B13: 农业农村局 本级 | C13: =SUM(D13:D13) -> 0 | D13: 0
A14: 责 任 处 室 | D14: 疫控中心
