Workbook

Sheet 汇总表
A1: 2022年市级农业农村专项资金（第二批）汇总表
P2: 单位：万元
A3: 序号 | B3: 辖市、区 | C3: 合计 | G3: 现代农业发展专项 | K3: 科技创新与推广专项 | M3: 农业公共服务专项 | O3: 美丽乡村发展专项
C4: 应下达 | D4: 已经下达（通过常财农〔2021〕58号） | E4: 调整2021年度预下市资金 | F4: 本次下达 | G4: 应下达 | H4: 已经下达（通过常财农〔2021〕58号） | I4: 调整2021年度预下市资金 | J4: 本次下达 | K4: 应下达 | L4: 本次下达 | M4: 应下达 | N4: 本次下达 | O4: 应下达 | P4: 本次下达
A5: 合计 | C5: =G5+K5+M5+O5 -> 8144.27 | D5: =H5 -> 1000 | E5: =I5 -> 0 | F5: =J5+L5+N5+P5 -> 7144.27 | G5: =现代农业发展!C6 -> 3838 | H5: =现代农业发展!D6 -> 1000 | I5: =现代农业发展!E6 -> 0 | J5: =现代农业发展!F6 -> 2838 | K5: =SUM(L5) -> 792 | L5: 792 | M5: =M6+M7+M8+M10+M11+M12 -> 150 | N5: =N6+N7+N8+N10+N11+N12 -> 150 | O5: =O6+O7+O8+O10+O11+O12 -> 3364.27 | P5: =P6+P7+P8+P10+P11+P12 -> 3364.27
A6: 1 | B6: 溧阳市 | C6: =G6+K6+M6+O6 -> 2488.78 | D6: =H6 -> 80 | E6: =I6 -> -80 | F6: =J6+L6+N6+P6 -> 2488.78 | G6: =现代农业发展!C7 -> 1585 | H6: =现代农业发展!D7 -> 80 | I6: =现代农业发展!E7 -> -80 | J6: =现代农业发展!F7 -> 1585 | K6: =SUM(L6) -> 131 | L6: =科技创新与推广!C6 -> 131 | M6: 25 | N6: ='农业公共服务 '!C6 -> 25 | O6: 747.78 | P6: =美丽乡村发展!C5 -> 747.78
A7: 2 | B7: 金坛区 | C7: =G7+K7+M7+O7 -> 1479.28 | D7: =H7 -> 250 | E7: =I7 -> 0 | F7: =J7+L7+N7+P7 -> 1229.28 | G7: =现代农业发展!C8 -> 699 | H7: =现代农业发展!D8 -> 250 | I7: =现代农业发展!E8 -> 0 | J7: =现代农业发展!F8 -> 449 | K7: =SUM(L7) -> 249 | L7: =科技创新与推广!C7 -> 249 | M7: 51 | N7: ='农业公共服务 '!C7 -> 51 | O7: 480.28 | P7: =美丽乡村发展!C6 -> 480.28
A8: 3 | B8: 武进区 | C8: =G8+K8+M8+O8 -> 2790.74 | D8: =H8 -> 540 | E8: =I8 -> 210 | F8: =J8+L8+N8+P8 -> 2040.74 | G8: =现代农业发展!C9 -> 1374 | H8: =现代农业发展!D9 -> 540 | I8: =现代农业发展!E9 -> 210 | J8: =现代农业发展!F9 -> 624 | K8: =SUM(L8) -> 179 | L8: =科技创新与推广!C8 -> 179 | M8: 42 | N8: ='农业公共服务 '!C8 -> 42 | O8: 1195.74 | P8: =美丽乡村发展!C7 -> 1195.74
B9: 其中经开区 | C9: =G9+K9+M9+O9 -> 876 | D9: =H9 -> 0 | E9: =I9 -> 250 | F9: =J9+L9+N9+P9 -> 626 | G9: =现代农业发展!C10 -> 500 | H9: =现代农业发展!D10 -> 0 | I9: =现代农业发展!E10 -> 250 | J9: =现代农业发展!F10 -> 250 | K9: =SUM(L9) -> 15 | L9: =科技创新与推广!C9 -> 15 | M9: 15 | N9: ='农业公共服务 '!C9 -> 15 | O9: 346 | P9: =美丽乡村发展!C8 -> 346
A10: 4 | B10: 新北区 | C10: =G10+K10+M10+O10 -> 502.78 | D10: =H10 -> 50 | E10: =I10 -> -50 | F10: =J10+L10+N10+P10 -> 502.78 | G10: =现代农业发展!C11 -> 50 | H10: =现代农业发展!D11 -> 50 | I10: =现代农业发展!E11 -> -50 | J10: =现代农业发展!F11 -> 50 | K10: =SUM(L10) -> 79 | L10: =科技创新与推广!C10 -> 79 | M10: 6 | N10: ='农业公共服务 '!C10 -> 6 | O10: 367.78 | P10: =美丽乡村发展!C9 -> 367.78
A11: 5 | B11: 天宁区 | C11: =G11+K11+M11+O11 -> 377 | D11: =H11 -> 80 | E11: =I11 -> -80 | F11: =J11+L11+N11+P11 -> 377 | G11: =现代农业发展!C12 -> 80 | H11: =现代农业发展!D12 -> 80 | I11: =现代农业发展!E12 -> -80 | J11: =现代农业发展!F12 -> 80 | K11: =SUM(L11) -> 17 | L11: =科技创新与推广!C11 -> 17 | M11: 0 | N11: ='农业公共服务 '!C11 -> 0 | O11: 280 | P11: =美丽乡村发展!C10 -> 280
A12: 6 | B12: 钟楼区 | C12: =G12+K12+M12+O12 -> 408.69 | D12: =H12 -> 0 | E12: =I12 -> 0 | F12: =J12+L12+N12+P12 -> 408.69 | G12: =现代农业发展!C13 -> 50 | H12: =现代农业发展!D13 -> 0 | I12: =现代农业发展!E13 -> 0 | J12: =现代农业发展!F13 -> 50 | K12: =SUM(L12) -> 40 | L12: =科技创新与推广!C12 -> 40 | M12: 26 | N12: ='农业公共服务 '!C12 -> 26 | O12: 292.69 | P12: =美丽乡村发展!C11 -> 292.69
A13: 7 | B13: 农业综合技术推广中心 | C13: =G13+K13+M13+O13 -> 60 | D13: 0 | E13: 0 | F13: =J13+L13+N13+P13 -> 60 | K13: =SUM(L13) -> 60 | L13: =科技创新与推广!C13 -> 60
A14: 8 | B14: 动物疫病预防控制中心 | C14: =G14+K14+M14+O14 -> 22 | D14: 0 | E14: 0 | F14: =J14+L14+N14+P14 -> 22 | K14: =SUM(L14) -> 22 | L14: =科技创新与推广!C14 -> 22
A15: 9 | B15: 农产品质量安全中心 | C15: =G15+K15+M15+O15 -> 15 | D15: 0 | E15: 0 | F15: =J15+L15+N15+P15 -> 15 | K15: =SUM(L15) -> 15 | L15: =科技创新与推广!C15 -> 15

Sheet 现代农业发展
A1: 2022年市级现代农业发展专项资金（第二批）拟下达分配明细表
P2: 单位：万元
A3: 序号 | B3: 辖市、区 | C3: 合计 | G3: 培育“双百”示范主体提升及应用技术和生产经营能力建设 | I3: 农业农村（先建后补类）项目
C4: 应下达 | D4: 已经下达（通过常财农〔2021〕58号） | E4: 调整2021年度预下市资金 | F4: 市资金 | I4: 绿色高效种养业发展 | M4: 农产品加工及流通能力提升 | O4: 农村一二三产业融合发展
D5: 已下达 | E5: 本次下达 | G5: 应下达 | H5: 本次下达 | I5: 应下达 | J5: 已经下达（通过常财农〔2021〕58号） | K5: 调整2021年度预下资金 | L5: 本次下达 | M5: 应下达 | N5: 本次下达 | O5: 应下达 | P5: 本次下达
A6: 合计 | C6: =G6+I6+M6+O6 -> 3838 | D6: =J6 -> 1000 | E6: =K6 -> 0 | F6: =H6+L6+N6+P6 -> 2838 | G6: 180 | H6: =H7+H8+H9+H11+H12+H13 -> 180 | I6: =I7+I8+I9+I11+I12+I13 -> 2272 | J6: =J7+J8+J9+J11+J12+J13 -> 1000 | K6: =K7+K8+K9+K11+K12+K13 -> 0 | L6: =L7+L8+L9+L11+L12+L13 -> 1272 | M6: =M7+M8+M9+M11+M12+M13 -> 692 | N6: =N7+N8+N9+N11+N12+N13 -> 692 | O6: =O7+O8+O9+O11+O12+O13 -> 694 | P6: =P7+P8+P9+P11+P12+P13 -> 694
A7: 1 | B7: 溧阳市 | C7: =G7+I7+M7+O7 -> 1585 | D7: =J7 -> 80 | E7: =K7 -> -80 | F7: =H7+L7+N7+P7 -> 1585 | G7: 180 | H7: 180 | I7: 368 | J7: 80 | K7: -80 | L7: 368 | M7: =SUM(N7) -> 597 | N7: 597 | O7: =SUM(P7) -> 440 | P7: 440
A8: 2 | B8: 金坛区 | C8: =G8+I8+M8+O8 -> 699 | D8: =J8 -> 250 | E8: =K8 -> 0 | F8: =H8+L8+N8+P8 -> 449 | I8: 571 | J8: 250 | L8: 321 | O8: =SUM(P8) -> 128 | P8: 128
A9: 3 | B9: 武进区 | C9: =G9+I9+M9+O9 -> 1374 | D9: =J9 -> 540 | E9: =K9 -> 210 | F9: =H9+L9+N9+P9 -> 624 | I9: 1333 | J9: 540 | K9: 210 | L9: 583 | O9: =SUM(P9) -> 41 | P9: 41
B10: 其中经开区 | C10: =G10+I10+M10+O10 -> 500 | D10: =J10 -> 0 | E10: =K10 -> 250 | F10: =H10+L10+N10+P10 -> 250 | I10: 500 | J10: 0 | K10: 250 | L10: 250
A11: 4 | B11: 新北区 | C11: =G11+I11+M11+O11 -> 50 | D11: =J11 -> 50 | E11: =K11 -> -50 | F11: =H11+L11+N11+P11 -> 50 | I11: 0 | J11: 50 | K11: -50 | L11: 0 | M11: =SUM(N11) -> 15 | N11: 15 | O11: =SUM(P11) -> 35 | P11: 35
A12: 5 | B12: 天宁区 | C12: =G12+I12+M12+O12 -> 80 | D12: =J12 -> 80 | E12: =K12 -> -80 | F12: =H12+L12+N12+P12 -> 80 | I12: 0 | J12: 80 | K12: -80 | L12: 0 | M12: =SUM(N12) -> 80 | N12: 80
A13: 6 | B13: 钟楼区 | C13: =G13+I13+M13+O13 -> 50 | D13: =J13 -> 0 | E13: =K13 -> 0 | F13: =H13+L13+N13+P13 -> 50 | O13: =SUM(P13) -> 50 | P13: 50
A14: 责任处室 | G14: 合作处 | I14: 畜牧处、渔业处、种植业处 | M14: 产业化处
A15: 备注：培育“双百”示范主体提升及应用技术和生产经营能力建设附件明确123万元，其余57万元用于“双百”中明细另文发布；2、调整2021年度预下市资金（通过常财农〔2021〕58号）其中溧阳市80万、武进区40万、新北区50万、天宁区80万，合计250万，调整至经开区用于农业农村（先建后补类）—绿色高效种养业发展项目中。

Sheet 科技创新与推广
A1: 2022年市级科技创新与推广资金（第二批）拟下达分配明细表
F2: 单位：万元
A3: 序号 | B3: 辖市、区 | C3: 合计 | D3: 现代产业技术体系及科技创新和示范推广项目 | E3: 特色农机发展
E4: 粮食生产“智能化”农场和特色农业生产全程机械化示范基地 | F4: 农机购置补贴（配套粮食烘干机空气源热泵热风炉）
A5: 合计 | C5: =C6+C7+C8+C10+C11+C12+C13+C14+C15 -> 792 | D5: =D6+D7+D8+D10+D11+D12+D13+D14+D15 -> 400 | E5: =E6+E7+E8+E10+E11+E12+E13+E14+E15 -> 320 | F5: =F6+F7+F8+F10+F11+F12+F13+F14+F15 -> 72
A6: 1 | B6: 溧阳市 | C6: =SUM(D6:F6) -> 131 | D6: 51 | E6: 80
A7: 2 | B7: 金坛区 | C7: =SUM(D7:F7) -> 249 | D7: 91 | E7: 110 | F7: 48
A8: 3 | B8: 武进区 | C8: =SUM(D8:F8) -> 179 | D8: 79 | E8: 80 | F8: 20
B9: 其中经开区 | C9: =SUM(D9:F9) -> 15 | D9: 15
A10: 4 | B10: 新北区 | C10: =SUM(D10:F10) -> 79 | D10: 45 | E10: 30 | F10: 4
A11: 5 | B11: 天宁区 | C11: =SUM(D11:F11) -> 17 | D11: 17
A12: 6 | B12: 钟楼区 | C12: =SUM(D12:F12) -> 40 | D12: 20 | E12: 20
A13: 7 | B13: 农业综合技术推广中心 | C13: =SUM(D13:F13) -> 60 | D13: 60
A14: 8 | B14: 动物疫病预防控制中心 | C14: =SUM(D14:F14) -> 22 | D14: 22
A15: 9 | B15: 农产品质量安全中心 | C15: =SUM(D15:F15) -> 15 | D15: 15
A16: 责任处室 | D16: 科教处 | E16: 推广中心 | F16: 农机处
A17: 备注：农机购置补贴（配套粮食烘干机空源热泵热风炉）项目资金总金额为144万元。本次下达72万元，其余72万元由中国人民财产保险股份有限公司常州市分公司按照1:1进行配套。

Sheet 农业公共服务 
A1: 2022年市级农业公共服务专项资金（第二批）拟下达分配明细表
D2: 单位：万元
A3: 序号 | B3: 辖市、区 | C3: 合计 | D3: 应急保障金—疫情期间鼓励本地农产品线上销售奖补资金
A5: 合计 | C5: 150 | D5: =D6+D7+D8+D10+D11+D12 -> 150
A6: 1 | B6: 溧阳市 | C6: =SUM(D6:D6) -> 25 | D6: 25
A7: 2 | B7: 金坛区 | C7: =SUM(D7:D7) -> 51 | D7: 51
A8: 3 | B8: 武进区 | C8: =SUM(D8:D8) -> 42 | D8: 42
B9: 其中经开区 | C9: =SUM(D9:D9) -> 15 | D9: 15
A10: 4 | B10: 新北区 | C10: =SUM(D10:D10) -> 6 | D10: 6
A11: 5 | B11: 天宁区 | C11: =SUM(D11:D11) -> 0 | D11: 0
A12: 6 | B12: 钟楼区 | C12: =SUM(D12:D12) -> 26 | D12: 26
A13: 责任处室 | D13: 信息处
A14: 备注：具体奖补明细另文下达

Sheet 美丽乡村发展
A1: 2022年市级美丽乡村发展专项资金（第二批）拟下达分配明细表
I2: 单位：万元
A3: 序号 | B3: 辖市、区 | C3: 合计 | D3: 新时代鱼米之乡示范镇建设 | E3: 美丽乡村建设奖补项目 | F3: 农村公厕建设奖补 | G3: 人居环境“红榜村”奖补 | H3: 村级集体经济发展（扶贫增收类） | I3: 村级集体经济发展（经济发展类）
A4: 合计 | C4: =SUM(D4:I4) -> 3364.27 | D4: =D5+D6+D7+D9+D10+D11 -> 600 | E4: =E5+E6+E7+E9+E10+E11 -> 1000 | F4: =F5+F6+F7+F9+F10+F11 -> 200 | G4: =G5+G6+G7+G9+G10+G11 -> 400 | H4: =H5+H6+H7+H9+H10+H11 -> 200 | I4: =I5+I6+I7+I9+I10+I11 -> 964.27
A5: 1 | B5: 溧阳市 | C5: =SUM(D5:I5) -> 747.78 | D5: 100 | E5: 420 | F5: 26.5 | G5: 40 | H5: 100 | I5: 61.28
A6: 2 | B6: 金坛区 | C6: =SUM(D6:I6) -> 480.28 | D6: 100 | E6: 80 | F6: 29 | G6: 110 | H6: 100 | I6: 61.28
A7: 3 | B7: 武进区 | C7: =SUM(D7:I7) -> 1195.74 | D7: 200 | E7: 250 | F7: 115.5 | G7: 140 | I7: 490.24
B8: 其中经开区 | C8: =SUM(D8:I8) -> 346 | D8: 100 | E8: 150 | F8: 76 | G8: 20 | I8: 0
A9: 4 | B9: 新北区 | C9: =SUM(D9:I9) -> 367.78 | D9: 100 | E9: 100 | F9: 6.5 | G9: 100 | I9: 61.28
A10: 5 | B10: 天宁区 | C10: =SUM(D10:I10) -> 280 | D10: 100 | E10: 150 | F10: 20 | G10: 10
A11: 6 | B11: 钟楼区 | C11: =SUM(D11:I11) -> 292.69 | F11: 2.5 | I11: 290.19
A12: 责任处站 | D12: 综合处 | F12: 社会事业处 | I12: 经管站

Sheet Sheet1
