Workbook

Sheet 汇总表
A1: 2022年省级农业农村专项资金（第三批）汇总表
D2: 单位：万元
A3: 序号 | B3: 辖区 | C3: 合计 | D3: 现代农业发展专项
A4: 合计 | C4: =SUM(D4:D4) -> 1383.16 | D4: =SUM(D5:D10) -> 1383.16
A5: 1 | B5: 金坛区 | C5: =SUM(D5:D5) -> 407.16 | D5: =现代农业发展专项!C6 -> 407.16
A6: 2 | B6: 武进区 | C6: =SUM(D6:D6) -> 174 | D6: =现代农业发展专项!C7 -> 174
A7: 3 | B7: 新北区 | C7: =SUM(D7:D7) -> 349 | D7: =现代农业发展专项!C8 -> 349
A8: 4 | B8: 天宁区 | C8: =SUM(D8:D8) -> 120 | D8: =现代农业发展专项!C9 -> 120
A9: 5 | B9: 钟楼区 | C9: =SUM(D9:D9) -> 0 | D9: =现代农业发展专项!C10 -> 0
A10: 6 | B10: 经开区 | C10: =SUM(D10:D10) -> 333 | D10: =现代农业发展专项!C11 -> 333

Sheet 现代农业发展专项
A1: 2022年省级现代农业发展专项资金（第三批）拟下达分配明细表
F2: 单位：万元
A3: 序号 | B3: 辖区 | C3: 合计 | D3: 农业农村（先建后补类）项目 | F3: 苏韵乡情休闲农业宣传推介
D4: 农产品加工及流通能力提升 | E4: 农村一二三产业融合发展
A5: 合计 | C5: =SUM(D5:F5) -> 1383.16 | D5: =SUM(D6:D11) -> 1309.16 | E5: =SUM(E6:E11) -> 59 | F5: =SUM(F6:F11) -> 15
A6: 1 | B6: 金坛区 | C6: =SUM(D6:F6) -> 407.16 | D6: 407.16
A7: 2 | B7: 武进区 | C7: =SUM(D7:F7) -> 174 | D7: 100 | E7: 59 | F7: 15
A8: 3 | B8: 新北区 | C8: =SUM(D8:F8) -> 349 | D8: 349
A9: 4 | B9: 天宁区 | C9: =SUM(D9:F9) -> 120 | D9: 120
A10: 5 | B10: 钟楼区 | C10: =SUM(D10:F10) -> 0
A11: 6 | B11: 经开区 | C11: =SUM(D11:F11) -> 333 | D11: 333
A12: 责任处室 | D12: 产业化处

Sheet Sheet1
