Workbook

Sheet 汇总表
A1: 附件：
A2: 2022年中央转移支付资金拟下达（第三批）分配汇总表
D3: 单位：万元
A4: 序号 | B4: 辖区 | C4: 合计 | D4: 中央农业生产发展专项
A6: 合计 | C6: =SUM(D6:D6) -> 154.84 | D6: =SUM(D7:D12) -> 154.84
A7: 1 | B7: 金坛区 | C7: =SUM(D7:D7) -> 154.84 | D7: =中央农业生产发展专项!C7 -> 154.84
A8: 2 | B8: 武进区 | C8: =SUM(D8:D8) -> 0 | D8: =中央农业生产发展专项!C8 -> 0
A9: 3 | B9: 新北区 | C9: =SUM(D9:D9) -> 0 | D9: =中央农业生产发展专项!C9 -> 0
A10: 4 | B10: 天宁区 | C10: =SUM(D10:D10) -> 0 | D10: =中央农业生产发展专项!C10 -> 0
A11: 5 | B11: 钟楼区 | C11: =SUM(D11:D11) -> 0 | D11: =中央农业生产发展专项!C11 -> 0
A12: 6 | B12: 经开区 | C12: =SUM(D12:D12) -> 0 | D12: =中央农业生产发展专项!C12 -> 0

Sheet 中央农业生产发展专项
A1: 附件：
A2: 2022年中央农业生产发展专项拟下达分配资金明细表
D3: 单位：万元
A4: 序号 | B4: 辖区 | C4: 合计 | D4: 农业农村发展项目(先建后补类）—农产品加工及流通能力提升
C5: 本次下达（154.84） | D5: 本次下达（154.84）
A6: 合计 | C6: =SUM(D6:D6) -> 154.84 | D6: =SUM(D7:D12) -> 154.84
A7: 1 | B7: 金坛区 | C7: =SUM(D7:D7) -> 154.84 | D7: 154.84
A8: 2 | B8: 武进区 | C8: =SUM(D8:D8) -> 0
A9: 3 | B9: 新北区 | C9: =SUM(D9:D9) -> 0
A10: 4 | B10: 天宁区 | C10: =SUM(D10:D10) -> 0
A11: 5 | B11: 钟楼区 | C11: =SUM(D11:D11) -> 0
A12: 6 | B12: 经开区 | C12: =SUM(D12:D12) -> 0
A13: 责 任 处 室 | D13: 产业化处
A14: 备注：明细详见附件
