Workbook

Sheet 汇总表
A1: 2023年市级农业农村专项资金（第一批）汇总表
I2: 单位：万元
A3: 序号 | B3: 辖市、区 | C3: 合计 | D3: 高标准农田建设专项 | E3: 现代农业发展专项 | F3: 科技创新与推广专项 | G3: 农业公共服务专项 | H3: 水稻田补偿专项 | I3: 美丽乡村发展专项
A4: 合计 | C4: =SUM(D4:I4) -> 6025 | D4: =D5+D6+D7+D9+D10+D11+D12+D13+D14+D15 -> 1424 | E4: =E5+E6+E7+E9+E10+E11+E12+E13+E14+E15 -> 100 | F4: =F5+F6+F7+F9+F10+F11+F12+F13+F14+F15 -> 926 | G4: =G5+G6+G7+G9+G10+G11+G12+G13+G14+G15 -> 1587 | H4: =H5+H6+H7+H9+H10+H11+H12+H13+H14+H15 -> 1600 | I4: =I5+I6+I7+I9+I10+I11+I12+I13+I14+I15 -> 388
A5: 1 | B5: 溧阳市 | C5: =SUM(D5:I5) -> 1480.33 | D5: =高标准农田建设!C5 -> 57 | E5: =现代农业发展!C5 -> 0 | F5: =科技创新与推广!C5 -> 210 | G5: ='农业公共服务 '!C5 -> 203.01 | H5: =水稻田补偿专项!C5 -> 960.32 | I5: =美丽乡村发展!C5 -> 50
A6: 2 | B6: 金坛区 | C6: =SUM(D6:I6) -> 1427.34 | D6: =高标准农田建设!C6 -> 474 | E6: =现代农业发展!C6 -> 0 | F6: =科技创新与推广!C6 -> 151.8 | G6: ='农业公共服务 '!C6 -> 375.22 | H6: =水稻田补偿专项!C6 -> 384.32 | I6: =美丽乡村发展!C6 -> 42
A7: 3 | B7: 武进区 | C7: =SUM(D7:I7) -> 988.99 | D7: =高标准农田建设!C7 -> 420 | E7: =现代农业发展!C7 -> 0 | F7: =科技创新与推广!C7 -> 264.6 | G7: ='农业公共服务 '!C7 -> 85.43 | H7: =水稻田补偿专项!C7 -> 136.96 | I7: =美丽乡村发展!C7 -> 82
B8: 其中经开区 | C8: =SUM(D8:I8) -> 141.8 | E8: =现代农业发展!C8 -> 0 | F8: =科技创新与推广!C8 -> 84.8 | G8: ='农业公共服务 '!C8 -> 15.4 | H8: =水稻田补偿专项!C8 -> 17.6 | I8: =美丽乡村发展!C8 -> 24
A9: 4 | B9: 新北区 | C9: =SUM(D9:I9) -> 813.21 | D9: =高标准农田建设!C8 -> 433 | E9: =现代农业发展!C9 -> 0 | F9: =科技创新与推广!C9 -> 156.4 | G9: ='农业公共服务 '!C9 -> 76.53 | H9: =水稻田补偿专项!C9 -> 105.28 | I9: =美丽乡村发展!C9 -> 42
A10: 5 | B10: 天宁区 | C10: =SUM(D10:I10) -> 74.72 | E10: =现代农业发展!C10 -> 0 | F10: =科技创新与推广!C10 -> 40.2 | G10: ='农业公共服务 '!C10 -> 6.52 | H10: =水稻田补偿专项!C10 -> 12 | I10: =美丽乡村发展!C10 -> 16
A11: 6 | B11: 钟楼区 | C11: =SUM(D11:I11) -> 55.61 | E11: =现代农业发展!C11 -> 0 | F11: =科技创新与推广!C11 -> 10.6 | G11: ='农业公共服务 '!C11 -> 27.89 | H11: =水稻田补偿专项!C11 -> 1.12 | I11: =美丽乡村发展!C11 -> 16
A12: 7 | B12: 局本级 | C12: =SUM(D12:I12) -> 760.8 | D12: =高标准农田建设!C9 -> 40 | E12: =现代农业发展!C12 -> 100 | F12: =科技创新与推广!C12 -> 68.4 | G12: ='农业公共服务 '!C12 -> 412.4 | I12: =美丽乡村发展!C12 -> 140
A13: 8 | B13: 农业技术推广中心 | C13: =SUM(D13:I13) -> 24 | F13: =科技创新与推广!C13 -> 24
A14: 9 | B14: 动物疫病预防控制中心 | C14: =SUM(D14:I14) -> 220 | G14: ='农业公共服务 '!C13 -> 220
A15: 10 | B15: 农产品质量安全中心 | C15: =SUM(D15:I15) -> 180 | G15: ='农业公共服务 '!C14 -> 180

Sheet 高标准农田建设
A1: 2023年市级高标准农田建设专项资金下达分配明细表
E2: 单位：万元
A3: 序号 | B3: 辖市、区 | C3: 小计 | D3: ＊ 高标准农田建设 (含节水灌溉） | E3: 高标准农田管护及“一张图”
A4: 合计 | C4: =SUM(C5:C9) -> 1424 | D4: =SUM(D5:D9) -> 1215 | E4: =SUM(E5:E9) -> 209
A5: 1 | B5: 溧阳市 | C5: =SUM(D5:E5) -> 57 | E5: 57
A6: 2 | B6: 金坛区 | C6: =SUM(D6:E6) -> 474 | D6: 426 | E6: 48
A7: 3 | B7: 武进区 | C7: =SUM(D7:E7) -> 420 | D7: 381 | E7: 39
A8: 4 | B8: 新北区 | C8: =SUM(D8:E8) -> 433 | D8: 408 | E8: 25
A9: 5 | B9: 市本级 | C9: =SUM(D9:E9) -> 40 | E9: 40
A10: 责任处室 | D10: 农田建设管理处
A11: 备注：1、打“＊”为约束性任务资金。

Sheet 现代农业发展
A1: 2023年市级现代农业发展专项资金（第一批）下达分配明细表
D2: 单位：万元
A3: 序号 | B3: 辖市区 | C3: 合计 | D3: 农业品牌品质提升与宣传推介
A4: 合计 | C4: =C5+C6+C7+C9+C10+C11+C12 -> 100 | D4: =D5+D6+D7+D9+D10+D11+D12 -> 100
A5: 1 | B5: 溧阳市 | C5: =SUM(D5:D5) -> 0
A6: 2 | B6: 金坛区 | C6: =SUM(D6:D6) -> 0
A7: 3 | B7: 武进区 | C7: =SUM(D7:D7) -> 0
B8: 其中经开区 | C8: =SUM(D8:D8) -> 0
A9: 4 | B9: 新北区 | C9: =SUM(D9:D9) -> 0
A10: 5 | B10: 天宁区 | C10: =SUM(D10:D10) -> 0
A11: 6 | B11: 钟楼区 | C11: =SUM(D11:D11) -> 0
A12: 7 | B12: 局本级 | C12: =SUM(D12:D12) -> 100 | D12: 100
A13: 责任处室 | D13: 信息处

Sheet 科技创新与推广
A1: 2023年市级科技创新与推广资金（第一批）下达分配明细表
E2: 单位：万元
A3: 序号 | B3: 辖市、区 | C3: 合计 | D3: 新型职业农民培育农业技术培训 | E3: 农业绿色高质高效创建
A4: 合计 | C4: =C5+C6+C7+C9+C10+C11+C12+C13 -> 926 | D4: =D5+D6+D7+D9+D10+D11+D12+D13 -> 60 | E4: =E5+E6+E7+E9+E10+E11+E12+E13 -> 866
A5: 1 | B5: 溧阳市 | C5: =SUM(D5:E5) -> 210 | E5: 210
A6: 2 | B6: 金坛区 | C6: =SUM(D6:E6) -> 151.8 | E6: 151.8
A7: 3 | B7: 武进区 | C7: =SUM(D7:E7) -> 264.6 | E7: 264.6
B8: 其中经开区 | C8: =SUM(D8:E8) -> 84.8 | E8: 84.8
A9: 4 | B9: 新北区 | C9: =SUM(D9:E9) -> 156.4 | E9: 156.4
A10: 5 | B10: 天宁区 | C10: =SUM(D10:E10) -> 40.2 | E10: 40.2
A11: 6 | B11: 钟楼区 | C11: =SUM(D11:E11) -> 10.6 | E11: 10.6
A12: 7 | B12: 局本级 | C12: =SUM(D12:E12) -> 68.4 | D12: 60 | E12: 8.4
A13: 8 | B13: 农业技术推广中心 | C13: =SUM(D13:E13) -> 24 | E13: 24
A14: 责任处室 | D14: 科教处 | E14: 种植业处、推广中心

Sheet 农业公共服务 
A1: 2023年市级农业公共服务专项资金（第一批）下达分配明细表
J2: 单元：万元
A3: 序号 | B3: 辖市、区 | C3: 合计 | D3: 农产品质量安全建设 | E3: 农产品质量检验检测 | F3: 农业标准化 | G3: 网络安全建设 | H3: 重大动物疫病防控 | I3: 畜产品质量安全 | J3: 宅基地和现代化宜居农房综合管理系统 | K3: 执法能力提升
A4: 合计 | C4: =C5+C6+C7+C9+C10+C11+C12+C13+C14 -> 1587 | D4: =D5+D6+D7+D9+D10+D11+D12+D13+D14 -> 205 | E4: =E5+E6+E7+E9+E10+E11+E12+E13+E14 -> 180 | F4: =F5+F6+F7+F9+F10+F11+F12+F13+F14 -> 130 | G4: =G5+G6+G7+G9+G10+G11+G12+G13+G14 -> 80 | H4: =H5+H6+H7+H9+H10+H11+H12+H13+H14 -> 432 | I4: =I5+I6+I7+I9+I10+I11+I12+I13+I14 -> 233.92 | J4: =J5+J6+J7+J9+J10+J11+J12+J13+J14 -> 280 | K4: =K5+K6+K7+K9+K10+K11+K12+K13+K14 -> 46.08
A5: 1 | B5: 溧阳市 | C5: =SUM(D5:K5) -> 203.01 | D5: 98.6 | F5: 64 | H5: 26.6 | I5: 13.81
A6: 2 | B6: 金坛区 | C6: =SUM(D6:K6) -> 375.22 | D6: 18 | F6: 28 | H6: 126.5 | I6: 186.64 | K6: 16.08
A7: 3 | B7: 武进区 | C7: =SUM(D7:K7) -> 85.43 | D7: 18 | F7: 28 | H7: 37.3 | I7: 2.13
B8: 其中经开区 | C8: =SUM(D8:K8) -> 15.4 | D8: 9 | H8: 5.8 | I8: 0.6
A9: 4 | B9: 新北区 | C9: =SUM(D9:K9) -> 76.53 | D9: 9 | F9: 10 | H9: 12 | I9: 15.53 | K9: 30
A10: 5 | B10: 天宁区 | C10: =SUM(D10:K10) -> 6.52 | D10: 0 | H10: 6.1 | I10: 0.42
A11: 6 | B11: 钟楼区 | C11: =SUM(D11:K11) -> 27.89 | D11: 9 | H11: 3.5 | I11: 15.39
A12: 7 | B12: 局本级 | C12: =SUM(D12:K12) -> 412.4 | D12: 52.4 | G12: 80 | J12: 280
A13: 8 | B13: 动物疫病预防控制中心 | C13: =SUM(D13:K13) -> 220 | H13: 220
A14: 9 | B14: 农产品质量安全中心 | C14: =SUM(D14:K14) -> 180 | E14: 180
A15: 责任处室 | D15: 质监处 | E15: 农产品质量安全中心 | F15: 推广中心 | G15: 信息处 | H15: 疫控中心 | I15: 畜牧处 | J15: 合作处 | K15: 执法支队

Sheet 水稻田补偿专项
A1: 2023年市级水稻田补偿专项资金下达分配明细表
D2: 单位：万元
A3: 序号 | B3: 辖市、区 | C3: 合计 | D3: 水稻田生态补偿
A4: 合计 | C4: =C5+C6+C7+C9+C10+C11 -> 1600 | D4: =D5+D6+D7+D9+D10+D11 -> 1600
A5: 1 | B5: 溧阳市 | C5: =SUM(D5:D5) -> 960.32 | D5: 960.32
A6: 2 | B6: 金坛区 | C6: =SUM(D6:D6) -> 384.32 | D6: 384.32
A7: 3 | B7: 武进区 | C7: =SUM(D7:D7) -> 136.96 | D7: 136.96
B8: 其中经开区 | C8: =SUM(D8:D8) -> 17.6 | D8: 17.6
A9: 4 | B9: 新北区 | C9: =SUM(D9:D9) -> 105.28 | D9: 105.28
A10: 5 | B10: 天宁区 | C10: =SUM(D10:D10) -> 12 | D10: 12
A11: 6 | B11: 钟楼区 | C11: =SUM(D11:D11) -> 1.12 | D11: 1.12
A12: 责任处室 | D12: 种植业处

Sheet 美丽乡村发展
A1: 2023年市级美丽乡村发展专项资金（第一批）下达分配明细表
E2: 单位：万元
A3: 序号 | B3: 辖市、区 | C3: 合计 | D3: 安康对口援助、老区乡村振兴帮促 | E3: 农村人居环境红榜村奖补
A4: 合计 | C4: =SUM(D4:E4) -> 388 | D4: =D5+D6+D7+D9+D10+D11+D12 -> 50 | E4: =E5+E6+E7+E9+E10+E11+E12 -> 338
A5: 1 | B5: 溧阳市 | C5: =SUM(D5:E5) -> 50 | E5: 50
A6: 2 | B6: 金坛区 | C6: =SUM(D6:E6) -> 42 | E6: 42
A7: 3 | B7: 武进区 | C7: =SUM(D7:E7) -> 82 | E7: 82
B8: 其中经开区 | C8: =SUM(D8:E8) -> 24 | E8: 24
A9: 4 | B9: 新北区 | C9: =SUM(D9:E9) -> 42 | E9: 42
A10: 5 | B10: 天宁区 | C10: =SUM(D10:E10) -> 16 | E10: 16
A11: 6 | B11: 钟楼区 | C11: =SUM(D11:E11) -> 16 | E11: 16
A12: 7 | B12: 局本级 | C12: =SUM(D12:E12) -> 140 | D12: 50 | E12: 90
A13: 责任处站 | D13: 社会事业处

Sheet Sheet1
