Workbook

Sheet 汇总表
A1: 附件：
A2: 2023年中央转移支付资金拟下达（第三批）分配汇总表
H3: 单位：万元
A4: 序号 | B4: 辖区 | C4: 合计 | D4: 中央农业产业发展专项 | E4: 中央粮油生产保障专项 | F4: 中央农业防灾减灾和水利救灾专项 | G4: 中央农业生态资源保护专项 | H4: 中央农业经营主体能力提升专项
A6: 合计 | C6: =SUM(D6:H6) -> 5879.78 | D6: =SUM(D7:D13) -> 3587 | E6: =SUM(E7:E13) -> 99 | F6: =SUM(F7:F13) -> 171.39 | G6: =SUM(G7:G13) -> 100 | H6: =SUM(H7:H13) -> 1922.39
A7: 1 | B7: 金坛区 | C7: =SUM(D7:H7) -> 4354.33 | D7: =中央农业产业发展专项!C7 -> 3412 | E7: =中央粮油生产保障专项!C7 -> 65.59 | F7: =中央农业防灾减灾和水利救灾专项!C7 -> 115.59 | G7: =中央农业生态资源保护专项!C7 -> 16.94 | H7: =中央农业经营主体能力提升专项!C8 -> 744.21
A8: 2 | B8: 武进区 | C8: =SUM(D8:H8) -> 588.72 | D8: =中央农业产业发展专项!C8 -> 30 | E8: =中央粮油生产保障专项!C8 -> 12.45 | F8: =中央农业防灾减灾和水利救灾专项!C8 -> 28.11 | G8: =中央农业生态资源保护专项!C8 -> 13.33 | H8: =中央农业经营主体能力提升专项!C9 -> 504.83
A9: 3 | B9: 新北区 | C9: =SUM(D9:H9) -> 454.92 | D9: =中央农业产业发展专项!C9 -> 60 | E9: =中央粮油生产保障专项!C9 -> 15.63 | F9: =中央农业防灾减灾和水利救灾专项!C9 -> 20.92 | G9: =中央农业生态资源保护专项!C9 -> 9.73 | H9: =中央农业经营主体能力提升专项!C10 -> 348.64
A10: 4 | B10: 天宁区 | C10: =SUM(D10:H10) -> 145.95 | D10: =中央农业产业发展专项!C10 -> 50 | E10: =中央粮油生产保障专项!C10 -> 2.84 | F10: =中央农业防灾减灾和水利救灾专项!C10 -> 2.44 | G10: =中央农业生态资源保护专项!C10 -> 0 | H10: =中央农业经营主体能力提升专项!C11 -> 90.67
A11: 5 | B11: 钟楼区 | C11: =SUM(D11:H11) -> 88.53 | D11: =中央农业产业发展专项!C11 -> 0 | E11: =中央粮油生产保障专项!C11 -> 0.5 | F11: =中央农业防灾减灾和水利救灾专项!C11 -> 0.21 | G11: =中央农业生态资源保护专项!C11 -> 0 | H11: =中央农业经营主体能力提升专项!C12 -> 87.82
A12: 6 | B12: 经开区 | C12: =SUM(D12:H12) -> 109.75 | D12: =中央农业产业发展专项!C12 -> 35 | E12: =中央粮油生产保障专项!C12 -> 1.99 | F12: =中央农业防灾减灾和水利救灾专项!C12 -> 4.12 | G12: =中央农业生态资源保护专项!C12 -> 0 | H12: =中央农业经营主体能力提升专项!C13 -> 68.64
A13: 7 | B13: 农业农村局 本级 | C13: =SUM(D13:H13) -> 137.58 | D13: 0 | E13: 0 | F13: 0 | G13: =中央农业生态资源保护专项!C13 -> 60 | H13: =中央农业经营主体能力提升专项!C14 -> 77.58

Sheet 中央农业产业发展专项
A1: 附件：
A2: 2023年中央农业产业发展专项拟下达分配资金明细表
F3: 单位：万元
A4: 序号 | B4: 辖区 | C4: 合计 | D4: 国家现代农业产业园 | E4: 农机购置补贴 | F4: 种业发展
C5: 本次下达（3587） | D5: 本次下达（3000） | E5: 本次下达（309） | F5: 本次下达（278）
A6: 合计 | C6: =SUM(D6:F6) -> 3587 | D6: =SUM(D7:D12) -> 3000 | E6: =SUM(E7:E12) -> 309 | F6: =SUM(F7:F12) -> 278
A7: 1 | B7: 金坛区 | C7: =SUM(D7:F7) -> 3412 | D7: 3000 | E7: 184 | F7: 228
A8: 2 | B8: 武进区 | C8: =SUM(D8:F8) -> 30 | E8: 30
A9: 3 | B9: 新北区 | C9: =SUM(D9:F9) -> 60 | E9: 60
A10: 4 | B10: 天宁区 | C10: =SUM(D10:F10) -> 50 | F10: 50
A11: 5 | B11: 钟楼区 | C11: =SUM(D11:F11) -> 0
A12: 6 | B12: 经开区 | C12: =SUM(D12:F12) -> 35 | E12: 35
A13: 责 任 处 室 | D13: 产业化处 | E13: 农机处 | F13: 畜牧兽医处

Sheet 中央粮油生产保障专项
A1: 附件：
A2: 2023年中央粮油生产保障专项资金拟下达分配明细表
D3: 单位：万元
A4: 序号 | B4: 辖区 | C4: 合计 | D4: 实施小麦“一喷三防”
C5: 本次下达（99） | D5: 本次下达（99）
A6: 合计 | C6: =SUM(D6:D6) -> 99 | D6: =SUM(D7:D12) -> 99
A7: 1 | B7: 金坛区 | C7: =SUM(D7:D7) -> 65.59 | D7: 65.59
A8: 2 | B8: 武进区 | C8: =SUM(D8:D8) -> 12.45 | D8: 12.45
A9: 3 | B9: 新北区 | C9: =SUM(D9:D9) -> 15.63 | D9: 15.63
A10: 4 | B10: 天宁区 | C10: =SUM(D10:D10) -> 2.84 | D10: 2.84
A11: 5 | B11: 钟楼区 | C11: =SUM(D11:D11) -> 0.5 | D11: 0.5
A12: 6 | B12: 经开区 | C12: =SUM(D12:D12) -> 1.99 | D12: 1.99
A13: 责 任 处 室 | D13: 推广中心
A14: 备注：扩种油菜补助150万已在常财农〔2023〕2号中下达，耕地轮作休耕等农业结构调整就是扩种油菜补助项目

Sheet 中央农业防灾减灾和水利救灾专项
A1: 附件：
A2: 2023年中央农业防灾减灾和水利救灾专项资金拟下达分配明细表
E3: 单位：万元
A4: 序号 | B4: 辖区 | C4: 合计 | D4: 动物强制免疫 | E4: 农作物重大病虫害防治
C5: 本次下达（171.39） | D5: 本次下达（60.39） | E5: 本次下达（111）
A6: 合计 | C6: =SUM(D6:E6) -> 171.39 | D6: =SUM(D7:D12) -> 60.39 | E6: =SUM(E7:E12) -> 111
A7: 1 | B7: 金坛区 | C7: =SUM(D7:E7) -> 115.59 | D7: 48.92 | E7: 66.67
A8: 2 | B8: 武进区 | C8: =SUM(D8:E8) -> 28.11 | D8: 7.41 | E8: 20.7
A9: 3 | B9: 新北区 | C9: =SUM(D9:E9) -> 20.92 | D9: 2.66 | E9: 18.26
A10: 4 | B10: 天宁区 | C10: =SUM(D10:E10) -> 2.44 | D10: 0.35 | E10: 2.09
A11: 5 | B11: 钟楼区 | C11: =SUM(D11:E11) -> 0.21 | D11: 0 | E11: 0.21
A12: 6 | B12: 经开区 | C12: =SUM(D12:E12) -> 4.12 | D12: 1.05 | E12: 3.07
A13: 责 任 处 室 | D13: 疫控中心 | E13: 推广中心

Sheet 中央农业生态资源保护专项
A1: 附件：
A2: 2023年中央农业生态资源保护专项资金拟下达分配明细表
E3: 单位：万元
A4: 序号 | B4: 辖区 | C4: 合计 | D4: 地膜科学使用回收 | E4: 渔业资源保护
C5: 本次下达（100） | D5: 本次下达（40） | E5: 本次下达（60）
A6: 合计 | C6: =SUM(D6:E6) -> 100 | D6: =SUM(D7:D13) -> 40 | E6: =SUM(E7:E13) -> 60
A7: 1 | B7: 金坛区 | C7: =SUM(D7:E7) -> 16.94 | D7: 16.94
A8: 2 | B8: 武进区 | C8: =SUM(D8:E8) -> 13.33 | D8: 13.33
A9: 3 | B9: 新北区 | C9: =SUM(D9:E9) -> 9.73 | D9: 9.73
A10: 4 | B10: 天宁区 | C10: =SUM(D10:E10) -> 0
A11: 5 | B11: 钟楼区 | C11: =SUM(D11:E11) -> 0
A12: 6 | B12: 经开区 | C12: =SUM(D12:E12) -> 0
A13: 7 | B13: 农业农村局 本级 | C13: =SUM(D13:E13) -> 60 | E13: 60
A14: 责 任 处 室 | D14: 种植业处 | E14: 渔业处

Sheet 中央农业经营主体能力提升专项
A1: 附件：
A2: 2023年中央农业经营主体能力提升专项资金拟下达分配明细表
I3: 单位：万元
A4: 序号 | B4: 辖区 | C4: 合计 | D4: 新型农业经营主体培育 | I4: 基层农技推广体系改革与建设 | J4: 高素质农民培育
D5: 新型经营主体单产提升行动 | E5: 农民合作社培育 | F5: 家庭农场培育 | G5: 生产设施条件改善（家庭农场） | H5: 生产设施条件改善（农民合作社）
C6: 本次下达（1922.39） | D6: 本次下达（168.01） | E6: 本次下达（374） | F6: 本次下达（331.6） | G6: 本次下达（362） | H6: 本次下达（382） | I6: 本次下达（277.78） | J6: 本次下达（27）
A7: 合计 | C7: =SUM(D7:J7) -> 1922.39 | D7: =SUM(D8:D14) -> 168.01 | E7: =SUM(E8:E14) -> 374 | F7: =SUM(F8:F14) -> 331.6 | G7: =SUM(G8:G14) -> 362 | H7: =SUM(H8:H14) -> 382 | I7: =SUM(I8:I14) -> 277.78 | J7: =SUM(J8:J14) -> 27
A8: 1 | B8: 金坛区 | C8: =SUM(D8:J8) -> 744.21 | D8: 100.91 | E8: 91 | F8: 114.6 | G8: 131 | H8: 163 | I8: 143.7
A9: 2 | B9: 武进区 | C9: =SUM(D9:J9) -> 504.83 | D9: 31.33 | E9: 101 | F9: 79 | G9: 101 | H9: 109 | I9: 83.5
A10: 3 | B10: 新北区 | C10: =SUM(D10:J10) -> 348.64 | D10: 27.64 | E10: 50 | F10: 79 | G10: 90 | H10: 55 | I10: 47
A11: 4 | B11: 天宁区 | C11: =SUM(D11:J11) -> 90.67 | D11: 3.17 | E11: 50 | F11: 17.5 | G11: 20
A12: 5 | B12: 钟楼区 | C12: =SUM(D12:J12) -> 87.82 | D12: 0.32 | E12: 50 | F12: 17.5 | G12: 20
A13: 6 | B13: 经开区 | C13: =SUM(D13:J13) -> 68.64 | D13: 4.64 | F13: 9 | H13: 55
A14: 7 | B14: 农业农村局 本级 | C14: =SUM(D14:J14) -> 77.58 | E14: 32 | F14: 15 | I14: 3.58 | J14: 27
A15: 责 任 处 室 | D15: 推广中心 | E15: 合作处 | I15: 科教处 | J15: 科教处
A16: 备注：新型农业经营主体培育（农民合作社培育）项目金坛应下达101万元，根据常农计复〔2022〕7号抵扣10万，本次下达91万元。

Sheet Sheet1
