Workbook

Sheet 汇总表
A1: 2023年省级农业农村专项资金（第二批）汇总表
E2: 单位：万元
A3: 序号 | B3: 辖区 | C3: 合计 | D3: 现代农业发展专项 | E3: 农业公共服务专项
A4: 合计 | C4: =SUM(D4:E4) -> 677.2 | D4: =SUM(D5:D11) -> 23.5 | E4: =SUM(E5:E12) -> 653.7
A5: 1 | B5: 金坛区 | C5: =SUM(D5:E5) -> 111.86 | D5: =现代农业发展专项!C5 -> 11.27 | E5: ='农业公共服务 '!C6 -> 100.59
A6: 2 | B6: 武进区 | C6: =SUM(D6:E6) -> 211.83 | D6: =现代农业发展专项!C6 -> 5.23 | E6: ='农业公共服务 '!C7 -> 206.6
A7: 3 | B7: 新北区 | C7: =SUM(D7:E7) -> 63.46 | D7: =现代农业发展专项!C7 -> 4.65 | E7: ='农业公共服务 '!C8 -> 58.81
A8: 4 | B8: 天宁区 | C8: =SUM(D8:E8) -> 20.85 | D8: =现代农业发展专项!C8 -> 0.35 | E8: ='农业公共服务 '!C9 -> 20.5
A9: 5 | B9: 钟楼区 | C9: =SUM(D9:E9) -> 19.2 | D9: =现代农业发展专项!C9 -> 0 | E9: ='农业公共服务 '!C10 -> 19.2
A10: 6 | B10: 经开区 | C10: =SUM(D10:E10) -> 62.9 | D10: =现代农业发展专项!C10 -> 2 | E10: ='农业公共服务 '!C11 -> 60.9
A11: 7 | B11: 局本级 | C11: =SUM(D11:E11) -> 88.02 | D11: 0 | E11: ='农业公共服务 '!C13 -> 88.02
A12: 8 | B12: 农产品质量安全中心 | C12: =SUM(D12:E12) -> 99.08 | E12: ='农业公共服务 '!C12 -> 99.08

Sheet 现代农业发展专项
A1: 2023年省级现代农业发展专项资金（第二批）拟下达分配明细表
D2: 单位：万元
A3: 序号 | B3: 辖区 | C3: 合计 | D3: 生猪稳产保供
A4: 合计 | C4: =SUM(D4:D4) -> 23.5 | D4: =SUM(D5:D10) -> 23.5
A5: 1 | B5: 金坛区 | C5: =SUM(D5:D5) -> 11.27 | D5: 11.27
A6: 2 | B6: 武进区 | C6: =SUM(D6:D6) -> 5.23 | D6: 5.23
A7: 3 | B7: 新北区 | C7: =SUM(D7:D7) -> 4.65 | D7: 4.65
A8: 4 | B8: 天宁区 | C8: =SUM(D8:D8) -> 0.35 | D8: 0.35
A9: 5 | B9: 钟楼区
A10: 6 | B10: 经开区 | C10: =SUM(D10:D10) -> 2 | D10: 2
A11: 责任处室 | D11: 畜牧兽医处

Sheet 农业公共服务 
A1: 2023年省级农业公共服务专项资金（第二批）拟下达分配明细表
J2: 单位：万元
A3: 序号 | B3: 辖区 | C3: 合计 | D3: 农产品质量安全监管 | G3: 动物疫病防控 | H3: 宅基地改革试点县建设 | I3: 化肥农药实名制购买定额制使用试点 | J3: 农业农村综合信息统计监测
D4: 省级农畜水产品例行监测和监督抽查 | E4: 农产品质量安全追溯管理 | F4: 农产品质量安全监管能力建设
A5: 合计 | C5: =SUM(D5:J5) -> 653.7 | D5: =SUM(D6:D13) -> 99.08 | E5: =SUM(E6:E13) -> 241.02 | F5: =SUM(F6:F13) -> 39.9 | G5: =SUM(G6:G13) -> 13.7 | H5: =SUM(H6:H13) -> 190 | I5: =SUM(I6:I13) -> 20 | J5: =SUM(J6:J13) -> 50
A6: 1 | B6: 金坛区 | C6: =SUM(D6:J6) -> 100.59 | E6: 71.76 | F6: 12.1 | G6: 9.73 | J6: 7
A7: 2 | B7: 武进区 | C7: =SUM(D7:J7) -> 206.6 | E7: 55.16 | F7: 11.9 | G7: 2.54 | H7: 110 | I7: 20 | J7: 7
A8: 3 | B8: 新北区 | C8: =SUM(D8:J8) -> 58.81 | E8: 45.38 | F8: 5 | G8: 1.43 | J8: 7
A9: 4 | B9: 天宁区 | C9: =SUM(D9:J9) -> 20.5 | E9: 10.3 | F9: 3.2 | J9: 7
A10: 5 | B10: 钟楼区 | C10: =SUM(D10:J10) -> 19.2 | E10: 10.3 | F10: 1.9 | J10: 7
A11: 6 | B11: 经开区 | C11: =SUM(D11:J11) -> 60.9 | E11: 18.1 | F11: 5.8 | H11: 30 | J11: 7
A12: 7 | B12: 农产品质量安全中心 | C12: =SUM(D12:J12) -> 99.08 | D12: 99.08
A13: 8 | B13: 农业农村局本级 | C13: =SUM(D13:J13) -> 88.02 | E13: 30.02 | H13: 50 | J13: 8
A14: 责任处室 | D14: 农安中心 | E14: 质监处 | G14: 疫控中心 | H14: 合作处 | I14: 种植业处 | J14: 信息处
A15: 备注：本次下达农产品质量安全监管能力建设资金39.9万元与常财农〔2022〕47号下达的农业公共服务专项中耕地质量等监测与调查项目30万元统筹使用在本次项目中（其中2022年分配因素为主要农作物肥料使用强度监测金坛区12万元、武进区7.5万元、新北区7.5万元、天宁区1万元、钟楼区1万元、经开区1万元），该项目资金合计为69.9万元。

Sheet Sheet1
