Workbook

Sheet 汇总表
A1: 2023年市级农业农村专项资金（第二批）汇总表
G2: 单位：万元
A3: 序号 | B3: 辖市、区 | C3: 合计 | D3: 现代农业发展专项 | E3: 科技创新与推广专项 | F3: 农业公共服务专项 | G3: 美丽乡村发展专项
A4: 合计 | C4: =SUM(D4:G4) -> 7537 | D4: =D5+D6+D7+D9+D10+D11+D12+D13+D14+D15 -> 2600 | E4: =E5+E6+E7+E9+E10+E11+E12+E13+E14+E15 -> 745 | F4: =F5+F6+F7+F9+F10+F11+F12+F13+F14+F15 -> 245 | G4: =G5+G6+G7+G9+G10+G11+G12+G13+G14+G15 -> 3947
A5: 1 | B5: 溧阳市 | C5: =SUM(D5:G5) -> 1797.53 | D5: ='现代农业发展（市级）'!C6 -> 684 | E5: =科技创新与推广!C5 -> 300 | F5: =农业公共服务专项!C5 -> 79.5 | G5: =美丽乡村发展!C5 -> 734.03
A6: 2 | B6: 金坛区 | C6: =SUM(D6:G6) -> 1335.55 | D6: ='现代农业发展（市级）'!C7 -> 530 | E6: =科技创新与推广!C6 -> 170 | F6: =农业公共服务专项!C6 -> 39.4 | G6: =美丽乡村发展!C6 -> 596.15
A7: 3 | B7: 武进区 | C7: =SUM(D7:G7) -> 1962.14 | D7: ='现代农业发展（市级）'!C8 -> 513 | E7: =科技创新与推广!C7 -> 65 | F7: =农业公共服务专项!C7 -> 46.9 | G7: =美丽乡村发展!C7 -> 1337.24
B8: 其中经开区 | C8: =SUM(D8:G8) -> 403.06 | D8: ='现代农业发展（市级）'!C9 -> 23 | E8: =科技创新与推广!C8 -> 0 | F8: =农业公共服务专项!D8 -> 2.1 | G8: =美丽乡村发展!C8 -> 377.96
A9: 4 | B9: 新北区 | C9: =SUM(D9:G9) -> 593.11 | D9: ='现代农业发展（市级）'!C10 -> 122 | E9: =科技创新与推广!C9 -> 85 | F9: =农业公共服务专项!C9 -> 37.9 | G9: =美丽乡村发展!C9 -> 348.21
A10: 5 | B10: 天宁区 | C10: =SUM(D10:G10) -> 433.9 | D10: ='现代农业发展（市级）'!C11 -> 220 | E10: =科技创新与推广!C10 -> 35 | F10: =农业公共服务专项!C10 -> 2.9 | G10: =美丽乡村发展!C10 -> 176
A11: 6 | B11: 钟楼区 | C11: =SUM(D11:G11) -> 967.77 | D11: ='现代农业发展（市级）'!C12 -> 281 | E11: =科技创新与推广!C11 -> 20 | F11: =农业公共服务专项!C11 -> 11.4 | G11: =美丽乡村发展!C11 -> 655.37
A12: 7 | B12: 局本级 | C12: =SUM(D12:G12) -> 257 | D12: ='现代农业发展（市级）'!C13 -> 130 | E12: 0 | F12: =农业公共服务专项!D12 -> 27 | G12: =美丽乡村发展!C12 -> 100
A13: 8 | B13: 农业综合技术推广中心 | C13: =SUM(D13:G13) -> 150 | D13: ='现代农业发展（市级）'!C14 -> 120 | E13: =科技创新与推广!C12 -> 30
A14: 9 | B14: 动物疫病预防控制中心 | C14: =SUM(D14:G14) -> 20 | E14: =科技创新与推广!C13 -> 20
A15: 10 | B15: 农产品质量安全中心 | C15: =SUM(D15:G15) -> 20 | E15: =科技创新与推广!C14 -> 20

Sheet 现代农业发展（市级）
A1: 2023年市级现代农业发展专项资金（第二批）下达分配明细表
J2: 单位：万元
A3: 序号 | B3: 辖市区 | C3: 合计 | D3: 新型经营主体“双百”培育 | E3: 农业品牌品质提升与宣传推介 | F3: 数字农业建设 | G3: 农业科技创新平台建设 | H3: 农业发展项目（先建后补类）
H4: 绿色高效种养业 | I4: 农村一二三产业融合发展 | J4: 农产品加工及流通能力提升
A5: 合计 | C5: =C6+C7+C8+C10+C11+C12+C13+C14 -> 2600 | D5: =D6+D7+D8+D10+D11+D12+D13+D14 -> 100 | E5: =E6+E7+E8+E10+E11+E12+E13+E14 -> 346 | F5: =F6+F7+F8+F10+F11+F12+F13+F14 -> 300 | G5: =G6+G7+G8+G10+G11+G12+G13+G14 -> 550 | H5: =H6+H7+H8+H10+H11+H12+H13+H14 -> 336 | I5: =I6+I7+I8+I10+I11+I12+I13+I14 -> 503 | J5: =J6+J7+J8+J10+J11+J12+J13+J14 -> 465
A6: 1 | B6: 溧阳市 | C6: =SUM(D6:J6) -> 684 | D6: 60 | E6: 40 | F6: 15 | H6: 170 | I6: 245 | J6: 154
A7: 2 | B7: 金坛区 | C7: =SUM(D7:J7) -> 530 | D7: 10 | E7: 43 | F7: 200 | H7: 166 | I7: 111
A8: 3 | B8: 武进区 | C8: =SUM(D8:J8) -> 513 | D8: 15 | E8: 83 | F8: 40 | G8: 228 | I8: 147
B9: 其中经开区 | C9: =SUM(D9:J9) -> 23 | D9: 5 | E9: 3 | F9: 15
A10: 4 | B10: 新北区 | C10: =SUM(D10:J10) -> 122 | D10: 5 | E10: 20 | F10: 15 | G10: 82
A11: 5 | B11: 天宁区 | C11: =SUM(D11:J11) -> 220 | D11: 5 | E11: 15 | F11: 15 | J11: 185
A12: 6 | B12: 钟楼区 | C12: =SUM(D12:J12) -> 281 | D12: 5 | E12: 15 | F12: 15 | G12: 120 | J12: 126
A13: 7 | B13: 局本级 | C13: =SUM(D13:J13) -> 130 | E13: 130
A14: 8 | B14: 农业综合技术推广中心 | C14: =SUM(D14:J14) -> 120 | G14: 120
A15: 责任处室 | D15: 合作处 | E15: 信息处、办公室 | F15: 信息处 | G15: 科教处 | H15: 畜牧、渔业、种植业 | I15: 产业化处

Sheet 科技创新与推广
A1: 2023年市级科技创新与推广资金（第二批）下达分配明细表
G2: 单位：万元
A3: 序号 | B3: 辖市、区 | C3: 合计 | D3: 特色绿色农机发展 | E3: 农业绿色高质高效创建（稻麦吨粮攻关方及全国水稻第一方创建） | F3: 新品种创制 | G3: 农业科技集成创新与示范推广项目
A4: 合计 | C4: =C5+C6+C7+C9+C10+C11+C12+C13+C14 -> 745 | D4: =D5+D6+D7+D9+D10+D11+D12+D13+D14 -> 170 | E4: =E5+E6+E7+E9+E10+E11+E12+E13+E14 -> 225 | F4: =F5+F6+F7+F9+F10+F11+F12+F13+F14 -> 30 | G4: =G5+G6+G7+G9+G10+G11+G12+G13+G14 -> 320
A5: 1 | B5: 溧阳市 | C5: =SUM(D5:G5) -> 300 | D5: 130 | E5: 135 | G5: 35
A6: 2 | B6: 金坛区 | C6: =SUM(D6:G6) -> 170 | D6: 30 | E6: 50 | G6: 90
A7: 3 | B7: 武进区 | C7: =SUM(D7:G7) -> 65 | E7: 20 | F7: 30 | G7: 15
B8: 其中经开区 | C8: =SUM(D8:G8) -> 0
A9: 4 | B9: 新北区 | C9: =SUM(D9:G9) -> 85 | D9: 5 | E9: 20 | G9: 60
A10: 5 | B10: 天宁区 | C10: =SUM(D10:G10) -> 35 | G10: 35
A11: 6 | B11: 钟楼区 | C11: =SUM(D11:G11) -> 20 | D11: 5 | G11: 15
A12: 7 | B12: 农业综合技术推广中心 | C12: =SUM(D12:G12) -> 30 | G12: 30
A13: 8 | B13: 动物疫病预防控制中心 | C13: =SUM(D13:G13) -> 20 | G13: 20
A14: 9 | B14: 农产品质量安全中心 | C14: =SUM(D14:G14) -> 20 | G14: 20
A15: 责任处室 | D15: 农机处 | E15: 推广中心 | F15: 科教处

Sheet 农业公共服务专项
A1: 2023年市级农业公共服务专项资金（第二批）下达分配明细表
F2: 单位：万元
A3: 序号 | B3: 辖市、区 | C3: 合计 | D3: 农机安全专项 | E3: 农产品质量安全建设 | F3: 农业标准化建设
A4: 合计 | C4: =SUM(D4:F4) -> 245 | D4: =D5+D6+D7+D9+D10+D11+D12 -> 77 | E4: =E5+E6+E7+E9+E10+E11+E12 -> 123 | F4: =F5+F6+F7+F9+F10+F11+F12 -> 45
A5: 1 | B5: 溧阳市 | C5: =SUM(D5:F5) -> 79.5 | D5: 9.5 | E5: 55 | F5: 15
A6: 2 | B6: 金坛区 | C6: =SUM(D6:F6) -> 39.4 | D6: 20.3 | E6: 7.1 | F6: 12
A7: 3 | B7: 武进区 | C7: =SUM(D7:F7) -> 46.9 | D7: 8.5 | E7: 26.4 | F7: 12
B8: 其中经开区 | C8: =SUM(D8:F8) -> 3.1 | D8: 2.1 | E8: 1
A9: 4 | B9: 新北区 | C9: =SUM(D9:F9) -> 37.9 | D9: 8.9 | E9: 27.5 | F9: 1.5
A10: 5 | B10: 天宁区 | C10: =SUM(D10:F10) -> 2.9 | D10: 1.4 | F10: 1.5
A11: 6 | B11: 钟楼区 | C11: =SUM(D11:F11) -> 11.4 | D11: 1.4 | E11: 7 | F11: 3
A12: 7 | B12: 局本级 | C12: =SUM(D12:F12) -> 27 | D12: 27
A13: 责任处站 | D13: 农机处 | F13: 推广中心

Sheet 美丽乡村发展
A1: 2023年市级美丽乡村发展专项资金（第二批）下达分配明细表
L2: 单位：万元
A3: 序号 | B3: 辖市、区 | C3: 合计 | D3: 老区乡村振兴帮促 | E3: 农村人居环境红榜村奖补 | F3: 农村集体经济发展扶持 （帮扶增收类） | G3: 农村集体经济发展扶持 （经济发展类） | H3: 乡村振兴调研、培训等工作推进 | I3: 市级美丽乡村建设奖补 | J3: 农民体协 | K3: 市级高标准农田建设专项奖励 | L3: 重大项目建设及苏韵乡情活动推进
A4: 合计 | C4: =SUM(D4:L4) -> 3947 | D4: =D5+D6+D7+D9+D10+D11+D12 -> 20 | E4: =E5+E6+E7+E9+E10+E11+E12 -> 252 | F4: =F5+F6+F7+F9+F10+F11+F12 -> 615 | G4: =G5+G6+G7+G9+G10+G11+G12 -> 1385 | H4: =H5+H6+H7+H9+H10+H11+H12 -> 70 | I4: =I5+I6+I7+I9+I10+I11+I12 -> 920 | J4: =J5+J6+J7+J9+J10+J11+J12 -> 20 | K4: =K5+K6+K7+K9+K10+K11+K12 -> 600 | L4: =L5+L6+L7+L9+L10+L11+L12 -> 65
A5: 1 | B5: 溧阳市 | C5: =SUM(D5:L5) -> 734.03 | E5: 32 | F5: 400 | G5: 146.03 | I5: 120 | L5: 36
A6: 2 | B6: 金坛区 | C6: =SUM(D6:L6) -> 596.15 | D6: 20 | E6: 52 | F6: 215 | G6: 103.15 | I6: 200 | L6: 6
A7: 3 | B7: 武进区 | C7: =SUM(D7:L7) -> 1337.24 | E7: 82 | G7: 649.24 | I7: 300 | K7: 300 | L7: 6
B8: 其中经开区 | C8: =SUM(D8:L8) -> 377.96 | E8: 34 | G8: 142.96 | I8: 200 | L8: 1
A9: 4 | B9: 新北区 | C9: =SUM(D9:L9) -> 348.21 | E9: 32 | G9: 190.21 | I9: 120 | L9: 6
A10: 5 | B10: 天宁区 | C10: =SUM(D10:L10) -> 176 | E10: 34 | I10: 140 | L10: 2
A11: 6 | B11: 钟楼区 | C11: =SUM(D11:L11) -> 655.37 | E11: 16 | G11: 296.37 | I11: 40 | K11: 300 | L11: 3
A12: 7 | B12: 局本级 | C12: =SUM(D12:L12) -> 100 | E12: 4 | H12: 70 | J12: 20 | L12: 6
A13: 责任处站 | D13: 社会事业处 | G13: 经管站 | H13: 综合处 | J13: 办公室 | K13: 综合处 | L13: 产业化处

Sheet 中央农业生产发展专项 (中央）
A1: 2023年中央农业生产发展专项资金（第四批）下达分配明细表
G2: 单位：万元
A3: 序号 | B3: 辖区 | C3: 合计 | D3: 农业发展项目（先建后补类） | F3: 农业品牌品质提升与宣传推介 | G3: 农业科技创新平台建设 | H3: 新型经营主体培育
D4: 绿色高效种养业 | E4: 农产品加工及流通能力提升
A5: 合计 | C5: =SUM(D5:H5) -> 858 | D5: =SUM(D6:D11) -> 311 | E5: =SUM(E6:E11) -> 427 | F5: =SUM(F6:F11) -> 17 | G5: =SUM(G6:G11) -> 50 | H5: =SUM(H6:H11) -> 53
A6: 1 | B6: 金坛区 | C6: =SUM(D6:H6) -> 300 | D6: 113 | E6: 187
A7: 2 | B7: 武进区 | C7: =SUM(D7:H7) -> 300 | D7: 180 | E7: 108 | G7: 12
A8: 3 | B8: 新北区 | C8: =SUM(D8:H8) -> 150 | D8: 18 | E8: 57 | G8: 38 | H8: 37
A9: 4 | B9: 天宁区 | C9: =SUM(D9:H9) -> 0
A10: 5 | B10: 钟楼区 | C10: =SUM(D10:H10) -> 50 | E10: 50
A11: 6 | B11: 经开区 | C11: =SUM(D11:H11) -> 58 | E11: 25 | F11: 17 | H11: 16
A12: 责任处室 | D12: 畜牧、渔业、种植业 | E12: 产业化处 | F12: 信息处 | G12: 科教处 | H12: 合作处
A13: 备注：2022年通过常财农〔2022〕87号文预下中央资金858万元，现明确使用方向，全部用于抵扣本次项目中。中央指标不另外下达。

Sheet Sheet1
