Workbook

Sheet 汇总表
A1: 2024年市级农业农村专项资金（第一批）汇总表
F2: 单位：万元
A3: 序号 | B3: 辖市、区 | C3: 合计 | D3: 科技创新与推广专项 | E3: 农业公共服务专项 | F3: 美丽乡村发展专项
A4: 合计 | C4: =SUM(D4:F4) -> 2034 | D4: =D5+D6+D7+D9+D10+D11+D12+D13+D14+D15+D16 -> 214 | E4: =E5+E6+E7+E9+E10+E11+E12+E13+E14+E15+E16 -> 1151 | F4: =F5+F6+F7+F9+F10+F11+F12+F13+F14+F15 -> 669
A5: 1 | B5: 溧阳市 | C5: =SUM(D5:F5) -> 196.25 | D5: =科技创新与推广!C5 -> 30.75 | E5: ='农业公共服务 '!C5 -> 105.5 | F5: =美丽乡村发展!C6 -> 60
A6: 2 | B6: 金坛区 | C6: =SUM(D6:F6) -> 469.92 | D6: =科技创新与推广!C6 -> 40 | E6: ='农业公共服务 '!C6 -> 359.92 | F6: =美丽乡村发展!C7 -> 70
A7: 3 | B7: 武进区 | C7: =SUM(D7:F7) -> 254.38 | D7: =科技创新与推广!C7 -> 56 | E7: ='农业公共服务 '!C7 -> 98.38 | F7: =美丽乡村发展!C8 -> 100
B8: 其中经开区 | C8: =SUM(D8:F8) -> 64.58 | D8: =科技创新与推广!D8 -> 10 | E8: ='农业公共服务 '!C8 -> 24.58 | F8: =美丽乡村发展!C9 -> 30
A9: 4 | B9: 新北区 | C9: =SUM(D9:F9) -> 136.68 | D9: =科技创新与推广!C9 -> 31 | E9: ='农业公共服务 '!C9 -> 65.68 | F9: =美丽乡村发展!C10 -> 40
A10: 5 | B10: 天宁区 | C10: =SUM(D10:F10) -> 69.38 | D10: =科技创新与推广!C10 -> 15.75 | E10: ='农业公共服务 '!C10 -> 23.63 | F10: =美丽乡村发展!C11 -> 30
A11: 6 | B11: 钟楼区 | C11: =SUM(D11:F11) -> 88.39 | D11: =科技创新与推广!C11 -> 20.5 | E11: ='农业公共服务 '!C11 -> 47.89 | F11: =美丽乡村发展!C12 -> 20
A12: 7 | B12: 局本级 | C12: =SUM(D12:F12) -> 411 | D12: =科技创新与推广!C12 -> 0 | E12: ='农业公共服务 '!C12 -> 62 | F12: =美丽乡村发展!C13 -> 349
A13: 8 | B13: 农业技术推广中心 | C13: =SUM(D13:F13) -> 20 | D13: =科技创新与推广!C13 -> 20 | E13: 0
A14: 9 | B14: 动物疫病预防控制中心 | C14: =SUM(D14:F14) -> 228 | E14: ='农业公共服务 '!C13 -> 228
A15: 10 | B15: 农产品质量安全中心 | C15: =SUM(D15:F15) -> 150 | E15: ='农业公共服务 '!C14 -> 150
A16: 11 | B16: 农业综合行政执法支队 | C16: =SUM(D16:F16) -> 10 | E16: ='农业公共服务 '!C15 -> 10

Sheet 科技创新与推广
A1: 2024年市级科技创新与推广资金（第一批）下达分配明细表
G2: 单位：万元
A3: 序号 | B3: 辖市、区 | C3: 合计 | D3: “新农人”创新创业培训 | E3: 农业绿色高质高效创建 | F3: 特色绿色农机发展 | G3: 种质资源保护
A4: 合计 | C4: =C5+C6+C7+C9+C10+C11+C12+C13 -> 214 | D4: =D5+D6+D7+D9+D10+D11+D12+D13 -> 125 | E4: =E5+E6+E7+E9+E10+E11+E12+E13 -> 44 | F4: =F5+F6+F7+F9+F10+F11+F12+F13 -> 25 | G4: =G5+G6+G7+G9+G10+G11+G12+G13 -> 20
A5: 1 | B5: 溧阳市 | C5: =SUM(D5:G5) -> 30.75 | D5: 18.75 | E5: 12
A6: 2 | B6: 金坛区 | C6: =SUM(D6:G6) -> 40 | D6: 14 | E6: 11 | F6: 15
A7: 3 | B7: 武进区 | C7: =SUM(D7:G7) -> 56 | D7: 40 | E7: 11 | F7: 5
B8: 其中经开区 | C8: =SUM(D8:G8) -> 15 | D8: 10 | E8: 0 | F8: 5
A9: 4 | B9: 新北区 | C9: =SUM(D9:G9) -> 31 | D9: 21 | E9: 10
A10: 5 | B10: 天宁区 | C10: =SUM(D10:G10) -> 15.75 | D10: 15.75
A11: 6 | B11: 钟楼区 | C11: =SUM(D11:G11) -> 20.5 | D11: 15.5 | F11: 5
A12: 7 | B12: 局本级 | C12: =SUM(D12:G12) -> 0
A13: 8 | B13: 农业技术推广中心 | C13: =SUM(D13:G13) -> 20 | G13: 20
A14: 责任处室 | D14: 科教处 | E14: 种植业处 | F14: 农机处 | G14: 推广中心

Sheet 农业公共服务 
A1: 2024年市级农业公共服务专项资金（第一批）下达分配明细表
J2: 单元：万元
A3: 序号 | B3: 辖市、区 | C3: 合计 | D3: 农产品质量检验检测 | E3: 农作物重大病虫害防治（耕地质量监测哨） | F3: 农业农村信息网络安全服务 | G3: ＊ 土地延包试点 | H3: 重大动物疫病防控 | I3: 畜产品质量安全 | J3: 农村宅基地改革 | K3: 执法能力提升
A4: 合计 | C4: =C5+C6+C7+C9+C10+C11+C12+C13+C14+C15 -> 1151 | D4: =D5+D6+D7+D9+D10+D11+D12+D13+D14+D15 -> 150 | E4: =E5+E6+E7+E9+E10+E11+E12+E13+E14+E15 -> 54 | F4: =F5+F6+F7+F9+F10+F11+F12+F13+F14+F15 -> 45 | G4: =G5+G6+G7+G9+G10+G11+G12+G13+G14+G15 -> 190 | H4: =H5+H6+H7+H9+H10+H11+H12+H13+H14+H15 -> 428 | I4: =I5+I6+I7+I9+I10+I11+I12+I13+I14+I15 -> 230 | J4: =J5+J6+J7+J9+J10+J11+J12+J13+J14+J15 -> 14 | K4: =K5+K6+K7+K9+K10+K11+K12+K13+K14+K15 -> 40
A5: 1 | B5: 溧阳市 | C5: =SUM(D5:K5) -> 105.5 | E5: 22 | G5: 34 | H5: 31 | I5: 18.5
A6: 2 | B6: 金坛区 | C6: =SUM(D6:K6) -> 359.92 | E6: 12 | G6: 34 | H6: 115.5 | I6: 168.42 | K6: 30
A7: 3 | B7: 武进区 | C7: =SUM(D7:K7) -> 98.38 | E7: 10 | G7: 51 | H7: 36 | I7: 1.38
B8: 其中经开区 | C8: =SUM(D8:K8) -> 24.58 | E8: 2 | G8: 17 | H8: 5 | I8: 0.58
A9: 4 | B9: 新北区 | C9: =SUM(D9:K9) -> 65.68 | E9: 8 | G9: 34 | H9: 10 | I9: 13.68
A10: 5 | B10: 天宁区 | C10: =SUM(D10:K10) -> 23.63 | E10: 1 | G10: 17 | H10: 5 | I10: 0.63
A11: 6 | B11: 钟楼区 | C11: =SUM(D11:K11) -> 47.89 | E11: 1 | G11: 17 | H11: 2.5 | I11: 27.39
A12: 7 | B12: 局本级 | C12: =SUM(D12:K12) -> 62 | F12: 45 | G12: 3 | J12: 14
A13: 8 | B13: 动物疫病预防控制中心 | C13: =SUM(D13:K13) -> 228 | H13: 228
A14: 9 | B14: 农产品质量安全中心 | C14: =SUM(D14:K14) -> 150 | D14: 150
A15: 10 | B15: 农业综合行政执法支队 | C15: =SUM(D15:K15) -> 10 | K15: 10
A16: 责任处室 | D16: 质监处 | E16: 种植业处 | F16: 信息处 | G16: 政改处 | H16: 畜牧处 | I16: 畜牧处 | J16: 合作处 | K16: 执法支队
A17: 备注：1、打“＊”为约束性任务资金。

Sheet 美丽乡村发展
A1: 2024年市级美丽乡村发展专项资金（第一批）下达分配明细表
G2: 单位：万元
A3: 序号 | B3: 辖市、区 | C3: 合计 | D3: 对口援助 | E3: 农村人居环境(红榜村奖补) | F3: 农民体协 | G3: 农村创业大赛 | H3: 农业招商考察调研及工作推进
A5: 合计 | C5: =SUM(D5:H5) -> 669 | D5: =D6+D7+D8+D10+D11+D12+D13 -> 80 | E5: =E6+E7+E8+E10+E11+E12+E13 -> 420 | F5: =F6+F7+F8+F10+F11+F12+F13 -> 80 | G5: =G6+G7+G8+G10+G11+G12+G13 -> 50 | H5: =H6+H7+H8+H10+H11+H12+H13 -> 39
A6: 1 | B6: 溧阳市 | C6: =SUM(D6:H6) -> 60 | E6: 60
A7: 2 | B7: 金坛区 | C7: =SUM(D7:H7) -> 70 | E7: 70
A8: 3 | B8: 武进区 | C8: =SUM(D8:H8) -> 100 | E8: 100
B9: 其中经开区 | C9: =SUM(D9:H9) -> 30 | E9: 30
A10: 4 | B10: 新北区 | C10: =SUM(D10:H10) -> 40 | E10: 40
A11: 5 | B11: 天宁区 | C11: =SUM(D11:H11) -> 30 | E11: 30
A12: 6 | B12: 钟楼区 | C12: =SUM(D12:H12) -> 20 | E12: 20
A13: 7 | B13: 局本级 | C13: =SUM(D13:H13) -> 349 | D13: 80 | E13: 100 | F13: 80 | G13: 50 | H13: 39
A14: 责任处站 | D14: 社会事业处 | F14: 办公室 | G14: 产业化处 | H14: 招商用

Sheet Sheet1
