Workbook

Sheet 汇总表
A1: 2024年省级农业农村专项资金（第一批）汇总表
G2: 单位：万元
A3: 序号 | B3: 辖 区 | C3: 合 计 | D3: 现代农业发展专项 | E3: 科技创新与推广专项 | F3: 农业公共服务专项 | G3: 农业生态保护与资源利用专项
A4: 合 计 | C4: =D4+E4+F4+G4 -> 1566.3 | D4: =SUM(D5:D12) -> 572 | E4: =SUM(E5:E12) -> 164 | F4: =SUM(F5:F12) -> 375.3 | G4: =SUM(G5:G12) -> 455
A5: 1 | B5: 金坛区 | C5: =D5+E5+F5+G5 -> 717.77 | D5: =现代农业发展专项!C5 -> 298.9 | E5: =科技创新与推广!C6 -> 92 | F5: ='农业公共服务 '!C5 -> 39.87 | G5: ='农业生态保护与资源化利用 '!C5 -> 287
A6: 2 | B6: 武进区 | C6: =D6+E6+F6+G6 -> 207.33 | D6: =现代农业发展专项!C6 -> 113.8 | E6: =科技创新与推广!C7 -> 32 | F6: ='农业公共服务 '!C6 -> 41.53 | G6: ='农业生态保护与资源化利用 '!C6 -> 20
A7: 3 | B7: 新北区 | C7: =D7+E7+F7+G7 -> 269.7 | D7: =现代农业发展专项!C7 -> 134.1 | E7: =科技创新与推广!C8 -> 0 | F7: ='农业公共服务 '!C7 -> 18.6 | G7: ='农业生态保护与资源化利用 '!C7 -> 117
A8: 4 | B8: 天宁区 | C8: =D8+E8+F8+G8 -> 52.2 | D8: =现代农业发展专项!C8 -> 1.2 | E8: =科技创新与推广!C9 -> 40 | F8: ='农业公共服务 '!C8 -> 1 | G8: ='农业生态保护与资源化利用 '!C8 -> 10
A9: 5 | B9: 钟楼区 | C9: =D9+E9+F9+G9 -> 15 | D9: =现代农业发展专项!C9 -> 11 | E9: =科技创新与推广!C10 -> 0 | F9: ='农业公共服务 '!C9 -> 1 | G9: ='农业生态保护与资源化利用 '!C9 -> 3
A10: 6 | B10: 经开区 | C10: =D10+E10+F10+G10 -> 34 | D10: =现代农业发展专项!C10 -> 13 | E10: =科技创新与推广!C11 -> 0 | F10: ='农业公共服务 '!C10 -> 3 | G10: ='农业生态保护与资源化利用 '!C10 -> 18
A11: 7 | B11: 农产品质量安全中心 | C11: =D11+E11+F11+G11 -> 222.3 | D11: 0 | E11: 0 | F11: ='农业公共服务 '!C11 -> 222.3 | G11: 0
A12: 8 | B12: 局本级 | C12: =D12+E12+F12+G12 -> 48 | F12: ='农业公共服务 '!C12 -> 48

Sheet 现代农业发展专项
A1: 2024年省级现代农业发展专项资金（第一批）下达分配明细表
F2: 单位：万元
A3: 序号 | B3: 辖 区 | C3: 合 计 | D3: 农机购置补贴 | E3: 完成生猪稳产保供 | F3: 绿色优质农产品补助
A4: 合 计 | C4: =SUM(D4:F4) -> 572 | D4: =SUM(D5:D10) -> 373 | E4: =SUM(E5:E10) -> 57 | F4: =SUM(F5:F10) -> 142
A5: 1 | B5: 金坛区 | C5: =SUM(D5:F5) -> 298.9 | D5: 240 | E5: 24.9 | F5: 34
A6: 2 | B6: 武进区 | C6: =SUM(D6:F6) -> 113.8 | D6: 68 | E6: 15.8 | F6: 30
A7: 3 | B7: 新北区 | C7: =SUM(D7:F7) -> 134.1 | D7: 65 | E7: 12.1 | F7: 57
A8: 4 | B8: 天宁区 | C8: =SUM(D8:F8) -> 1.2 | E8: 1.2
A9: 5 | B9: 钟楼区 | C9: =SUM(D9:F9) -> 11 | F9: 11
A10: 6 | B10: 经开区 | C10: =SUM(D10:F10) -> 13 | E10: 3 | F10: 10

Sheet 科技创新与推广
A1: 2024年省级科技创新与推广资金（第一批）下达分配明细表
E2: 单位：万元
A3: 序号 | B3: 辖 区 | C3: 合 计 | D3: 农业种质资源保护利用
D4: 地方特色农业种质资源保护利用 | E4: 畜禽遗传资源保护
A5: 合 计 | C5: =SUM(D5:E5) -> 164 | D5: =SUM(D6:D11) -> 64 | E5: =SUM(E6:E11) -> 100
A6: 1 | B6: 金坛区 | C6: =SUM(D6:E6) -> 92 | D6: 32 | E6: 60
A7: 2 | B7: 武进区 | C7: =SUM(D7:E7) -> 32 | D7: 32
A8: 3 | B8: 新北区 | C8: =SUM(D8:E8) -> 0
A9: 4 | B9: 天宁区 | C9: =SUM(D9:E9) -> 40 | E9: 40
A10: 5 | B10: 钟楼区 | C10: =SUM(D10:E10) -> 0
A11: 6 | B11: 经开区 | C11: =SUM(D11:E11) -> 0

Sheet 农业公共服务 
A1: 2024年省级农业公共服务专项资金（第一批）下达分配明细表
G2: 单位：万元
A3: 序号 | B3: 辖 区 | C3: 合 计 | D3: 农产品质量安全监管 | E3: 动物疫病防控 | F3: 开展化肥农药实名制购买定额制使用试点 | G3: 农业农村大数据建设
A4: 合 计 | C4: =SUM(D4:G4) -> 375.3 | D4: =SUM(D5:D12) -> 254.3 | E4: =SUM(E5:E12) -> 53 | F4: =SUM(F5:F12) -> 20 | G4: =SUM(G5:G12) -> 48
A5: 1 | B5: 金坛区 | C5: =SUM(D5:G5) -> 39.87 | D5: 9 | E5: 30.87
A6: 2 | B6: 武进区 | C6: =SUM(D6:G6) -> 41.53 | D6: 10 | E6: 11.53 | F6: 20
A7: 3 | B7: 新北区 | C7: =SUM(D7:G7) -> 18.6 | D7: 8 | E7: 10.6
A8: 4 | B8: 天宁区 | C8: =SUM(D8:G8) -> 1 | D8: 1
A9: 5 | B9: 钟楼区 | C9: =SUM(D9:G9) -> 1 | D9: 1
A10: 6 | B10: 经开区 | C10: =SUM(D10:G10) -> 3 | D10: 3
A11: 7 | B11: 农产品质量安全中心 | C11: =SUM(D11:G11) -> 222.3 | D11: =168.3+54 -> 222.3
A12: 8 | B12: 局本级 | C12: =SUM(D12:G12) -> 48 | G12: 48

Sheet 农业生态保护与资源化利用 
A1: 2024年省级农业生态保护与资源化利用专项资金 （第一批）下达分配明细表
D2: 单位：万元
A3: 序号 | B3: 辖 区 | C3: 合 计 | D3: 秸秆机械化还田
A4: 合 计 | C4: =SUM(D4) -> 455 | D4: =SUM(D5:D10) -> 455
A5: 1 | B5: 金坛区 | C5: =SUM(D5) -> 287 | D5: 287
A6: 2 | B6: 武进区 | C6: =SUM(D6) -> 20 | D6: 20
A7: 3 | B7: 新北区 | C7: =SUM(D7) -> 117 | D7: 117
A8: 4 | B8: 天宁区 | C8: =SUM(D8) -> 10 | D8: 10
A9: 5 | B9: 钟楼区 | C9: =SUM(D9) -> 3 | D9: 3
A10: 6 | B10: 经开区 | C10: =SUM(D10) -> 18 | D10: 18

Sheet Sheet1
