Workbook

Sheet 汇总表
A1: 2024年市级农业农村专项资金（第二批）汇总表
I2: 单位：万元
A3: 序号 | B3: 辖市、区 | C3: 合计 | D3: 高标准农田建设专项 | E3: 现代农业发展专项 | F3: 农业科技创新与推广专项 | G3: 农业公共服务专项 | H3: 农业生态保护与资源化利用专项 | I3: 美丽乡村发展专项
A4: 合计 | C4: =SUM(D4:I4) -> 2372.5 | D4: =D5+D6+D7+D9+D10+D11+D12+D13+D14+D15+D16+D17 -> 100 | E4: =E5+E6+E7+E9+E10+E11+E12+E13+E14+E15+E16+E17 -> 406.5 | F4: =F5+F6+F7+F9+F10+F11+F12+F13+F14+F15+F16+F17 -> 300 | G4: =G5+G6+G7+G9+G10+G11+G12+G13+G14+G15+G16+G17 -> 286 | H4: =H5+H6+H7+H9+H10+H11+H12+H13+H14+H15 -> 300 | I4: =I5+I6+I7+I9+I10+I11+I12+I13+I14+I15 -> 980
A5: 1 | B5: 溧阳市 | C5: =SUM(D5:I5) -> 937 | D5: 0 | E5: =现代农业发专项专项!D5 -> 20 | F5: =科技创新与推广!C5 -> 55 | G5: ='农业公共服务 '!C5 -> 123 | H5: =农业生态保护与资源化利用!C5 -> 300 | I5: =美丽乡村发展!C6 -> 439
A6: 2 | B6: 金坛区 | C6: =SUM(D6:I6) -> 367.5 | D6: =高标准农田建设!C5 -> 39 | E6: =现代农业发专项专项!D6 -> 100 | F6: =科技创新与推广!C6 -> 45 | G6: ='农业公共服务 '!C6 -> 41.5 | H6: =农业生态保护与资源化利用!C6 -> 0 | I6: =美丽乡村发展!C7 -> 142
A7: 3 | B7: 武进区 | C7: =SUM(D7:I7) -> 533 | D7: =高标准农田建设!C6 -> 30 | E7: =现代农业发专项专项!D7 -> 176.5 | F7: =科技创新与推广!C7 -> 40 | G7: ='农业公共服务 '!C7 -> 42.5 | H7: =农业生态保护与资源化利用!C7 -> 0 | I7: =美丽乡村发展!C8 -> 244
B8: 其中经开区 | C8: =SUM(D8:I8) -> 61.5 | D8: 0 | E8: =现代农业发专项专项!D8 -> 8.5 | F8: =科技创新与推广!C8 -> 10 | G8: ='农业公共服务 '!C8 -> 10 | H8: =农业生态保护与资源化利用!C8 -> 0 | I8: =美丽乡村发展!C9 -> 33
A9: 4 | B9: 新北区 | C9: =SUM(D9:I9) -> 196.5 | D9: =高标准农田建设!C7 -> 22 | E9: =现代农业发专项专项!D9 -> 45 | F9: =科技创新与推广!C9 -> 35 | G9: ='农业公共服务 '!C9 -> 67.5 | H9: =农业生态保护与资源化利用!C9 -> 0 | I9: =美丽乡村发展!C10 -> 27
A10: 5 | B10: 天宁区 | C10: =SUM(D10:I10) -> 102.5 | D10: =高标准农田建设!C8 -> 9 | E10: =现代农业发专项专项!D10 -> 57.5 | F10: =科技创新与推广!C10 -> 10 | G10: ='农业公共服务 '!C10 -> 0 | H10: =农业生态保护与资源化利用!C10 -> 0 | I10: =美丽乡村发展!C11 -> 26
A11: 6 | B11: 钟楼区 | C11: =SUM(D11:I11) -> 21 | D11: 0 | E11: =现代农业发专项专项!D11 -> 7.5 | F11: =科技创新与推广!C11 -> 0 | G11: ='农业公共服务 '!C11 -> 11.5 | H11: =农业生态保护与资源化利用!C11 -> 0 | I11: =美丽乡村发展!C12 -> 2
A12: 7 | B12: 局本级 | C12: =SUM(D12:I12) -> 100 | F12: =科技创新与推广!C12 -> 0 | G12: 0 | H12: 0 | I12: =美丽乡村发展!C13 -> 100
A13: 8 | B13: 农业技术推广中心 | C13: =SUM(D13:I13) -> 40 | F13: =科技创新与推广!C13 -> 40 | G13: 0 | H13: 0
A14: 9 | B14: 动物疫病预防控制中心 | C14: =SUM(D14:I14) -> 20 | F14: =科技创新与推广!C14 -> 20 | G14: 0 | H14: 0
A15: 10 | B15: 农产品质量安全中心 | C15: =SUM(D15:I15) -> 20 | F15: =科技创新与推广!C15 -> 20 | G15: 0 | H15: 0
A16: 11 | B16: 常州市城市防洪工程管理处 | C16: =SUM(D16:I16) -> 20 | F16: =科技创新与推广!C16 -> 20 | G16: 0 | H16: 0
A17: 12 | B17: 江苏大学管理学院 | C17: =SUM(D17:I17) -> 15 | F17: =科技创新与推广!C17 -> 15 | G17: 0 | H17: 0

Sheet 高标准农田建设
A1: 2024年市级高标准农田建设专项资金下达分配明细表
D2: 单位：万元
A3: 序号 | B3: 辖市、区 | C3: 小计 | D3: 高标准农田管护
A4: 合计 | C4: =SUM(C5:C8) -> 100 | D4: =SUM(D5:D8) -> 100
A5: 1 | B5: 金坛区 | C5: =SUM(D5:D5) -> 39 | D5: 39
A6: 2 | B6: 武进区 | C6: =SUM(D6:D6) -> 30 | D6: 30
A7: 3 | B7: 新北区 | C7: =SUM(D7:D7) -> 22 | D7: 22
A8: 4 | B8: 天宁区 | C8: =SUM(D8:D8) -> 9 | D8: 9
A9: 责任处室 | D9: 农田建设处
A10: 备注：1、打“＊”为约束性任务资金。

Sheet 现代农业发专项专项
A1: 2024年市级现代农业发展专项下达分配明细表
D2: 单位：万元
A3: 序号 | B3: 辖市、区 | C3: 合计 | D3: 农业品种品质提升与宣传推介
A4: 合计 | C4: =C5+C6+C7+C9+C10+C11+C12+C13 -> 406.5 | D4: =D5+D6+D7+D9+D10+D11+D12+D13 -> 406.5
A5: 1 | B5: 溧阳市 | C5: =SUM(D5:D5) -> 20 | D5: 20
A6: 2 | B6: 金坛区 | C6: =SUM(D6:D6) -> 100 | D6: 100
A7: 3 | B7: 武进区 | C7: =SUM(D7:D7) -> 176.5 | D7: 176.5
B8: 其中经开区 | C8: =SUM(D8:D8) -> 8.5 | D8: 8.5
A9: 4 | B9: 新北区 | C9: =SUM(D9:D9) -> 45 | D9: 45
A10: 5 | B10: 天宁区 | C10: =SUM(D10:D10) -> 57.5 | D10: 57.5
A11: 6 | B11: 钟楼区 | C11: =SUM(D11:D11) -> 7.5 | D11: 7.5
A12: 7 | B12: 局本级 | C12: =SUM(D12:D12) -> 0
A13: 8 | B13: 农业技术推广中心 | C13: =SUM(D13:D13) -> 0
A14: 责任处室 | D14: 信息处

Sheet 科技创新与推广
A1: 2024年市级科技创新与推广资金（第二批）下达分配明细表
D2: 单位：万元
A3: 序号 | B3: 辖市、区 | C3: 合计 | D3: 农业科技集成创新与示范推广项目
A4: 合计 | C4: =C5+C6+C7+C9+C10+C11+C12+C13+C14+C15+C16+C17 -> 300 | D4: =D5+D6+D7+D9+D10+D11+D12+D13+D14+D15+D16+D17 -> 300
A5: 1 | B5: 溧阳市 | C5: =SUM(D5:D5) -> 55 | D5: 55
A6: 2 | B6: 金坛区 | C6: =SUM(D6:D6) -> 45 | D6: 45
A7: 3 | B7: 武进区 | C7: =SUM(D7:D7) -> 40 | D7: 40
B8: 其中经开区 | C8: =SUM(D8:D8) -> 10 | D8: 10
A9: 4 | B9: 新北区 | C9: =SUM(D9:D9) -> 35 | D9: 35
A10: 5 | B10: 天宁区 | C10: =SUM(D10:D10) -> 10 | D10: 10
A11: 6 | B11: 钟楼区 | C11: =SUM(D11:D11) -> 0 | D11: 0
A12: 7 | B12: 局本级 | C12: =SUM(D12:D12) -> 0 | D12: 0
A13: 8 | B13: 农业综合技术推广中心 | C13: =SUM(D13:D13) -> 40 | D13: 40
A14: 9 | B14: 动物疫病预防控制中心 | C14: =SUM(D14:D14) -> 20 | D14: 20
A15: 10 | B15: 农产品质量安全中心 | C15: =SUM(D15:D15) -> 20 | D15: 20
A16: 11 | B16: 常州市城市防洪工程管理处 | C16: =SUM(D16:D16) -> 20 | D16: 20
A17: 12 | B17: 江苏大学管理学院 | C17: =SUM(D17:D17) -> 15 | D17: 15
A18: 责任处室 | D18: 科教处

Sheet 农业公共服务 
A1: 2024年市级农业公共服务专项资金（第二批）下达分配明细表
D2: 单元：万元
A3: 序号 | B3: 辖市、区 | C3: 合计 | D3: 农产品质量安全监管
A4: 合计 | C4: =C5+C6+C7+C9+C10+C11 -> 286 | D4: =D5+D6+D7+D9+D10+D11 -> 286
A5: 1 | B5: 溧阳市 | C5: =SUM(D5:D5) -> 123 | D5: 123
A6: 2 | B6: 金坛区 | C6: =SUM(D6:D6) -> 41.5 | D6: 41.5
A7: 3 | B7: 武进区 | C7: =SUM(D7:D7) -> 42.5 | D7: 42.5
B8: 其中经开区 | C8: =SUM(D8:D8) -> 10 | D8: 10
A9: 4 | B9: 新北区 | C9: =SUM(D9:D9) -> 67.5 | D9: 67.5
A10: 5 | B10: 天宁区 | C10: =SUM(D10:D10) -> 0 | D10: 0
A11: 6 | B11: 钟楼区 | C11: =SUM(D11:D11) -> 11.5 | D11: 11.5
A12: 责任处室 | D12: 质监处
A13: 备注：1、打“＊”为约束性任务资金。

Sheet 农业生态保护与资源化利用
A1: 2024年市级农业生态保护与资源化利用专项资金下达分配明细表
D2: 单位：万元
A3: 序号 | B3: 辖市、区 | C3: 合计 | D3: 秸秆离田利用
A4: 合计 | C4: =C5+C6+C7+C9+C10+C11 -> 300 | D4: =D5+D6+D7+D9+D10+D11 -> 300
A5: 1 | B5: 溧阳市 | C5: =SUM(D5:D5) -> 300 | D5: 300
A6: 2 | B6: 金坛区 | C6: =SUM(D6:D6) -> 0 | D6: 0
A7: 3 | B7: 武进区 | C7: =SUM(D7:D7) -> 0 | D7: 0
B8: 其中经开区 | C8: =SUM(D8:D8) -> 0 | D8: 0
A9: 4 | B9: 新北区 | C9: =SUM(D9:D9) -> 0 | D9: 0
A10: 5 | B10: 天宁区 | C10: =SUM(D10:D10) -> 0 | D10: 0
A11: 6 | B11: 钟楼区 | C11: =SUM(D11:D11) -> 0 | D11: 0
A12: 责任处室 | D12: 科教处

Sheet 美丽乡村发展
A1: 2024年市级美丽乡村发展专项资金（第二批）下达分配明细表
H2: 单位：万元
A3: 序号 | B3: 辖市、区 | C3: 合计 | D3: 农村公厕建设 | E3: 绿色乡村发展 | I3: 美丽乡村振兴工作推进
E4: 青虾绿色智慧渔业示范建设 | F4: 丘陵山区高效节水灌溉示范项目 | G4: 农田生态化改造 | H4: 化肥农药实名制购买和定额制使用
A5: 合计 | C5: =SUM(D5:I5) -> 980 | D5: =D6+D7+D8+D10+D11+D12+D13 -> 250 | E5: =E6+E7+E8+E10+E11+E12+E13 -> 300 | F5: =F6+F7+F8+F10+F11+F12+F13 -> 50 | G5: =G6+G7+G8+G10+G11+G12+G13 -> 150 | H5: =H6+H7+H8+H10+H11+H12+H13 -> 180 | I5: =I6+I7+I8+I10+I11+I12+I13 -> 50
A6: 1 | B6: 溧阳市 | C6: =SUM(D6:I6) -> 439 | D6: 99 | E6: 300 | H6: 40
A7: 2 | B7: 金坛区 | C7: =SUM(D7:I7) -> 142 | D7: 57 | F7: 50 | H7: 35
A8: 3 | B8: 武进区 | C8: =SUM(D8:I8) -> 244 | D8: 64 | G8: 150 | H8: 30
B9: 其中经开区 | C9: =SUM(D9:I9) -> 33 | D9: 33 | G9: 0 | H9: 0
A10: 4 | B10: 新北区 | C10: =SUM(D10:I10) -> 27 | D10: 2 | H10: 25
A11: 5 | B11: 天宁区 | C11: =SUM(D11:I11) -> 26 | D11: 26
A12: 6 | B12: 钟楼区 | C12: =SUM(D12:I12) -> 2 | D12: 2
A13: 7 | B13: 局本级 | C13: =SUM(D13:I13) -> 100 | H13: 50 | I13: 50
A14: 责任处站 | D14: 办公室 | E14: 渔业处 | F14: 农田处 | H14: 种植业处 | I14: 产业化处

Sheet Sheet1
