Workbook

Sheet 汇总表
A1: 附件：
A2: 2024年中央转移支付资金拟下达（第二批）分配汇总表
G3: 单位：万元
A4: 序号 | B4: 辖区 | C4: 合计 | D4: 中央农业产业发展专项 | E4: 中央粮油生产保障专项 | F4: 中央农业防灾减灾和水利救灾专项 | G4: 中央农业经营主体能力提升专项 | H4: 中央农业生态资源保护专项
A6: 合计 | C6: =SUM(D6:H6) -> 5220.5 | D6: =SUM(D7:D13) -> 3790 | E6: =SUM(E7:E13) -> 30.9 | F6: =SUM(F7:F13) -> 56 | G6: =SUM(G7:G13) -> 622.6 | H6: =SUM(H7:H13) -> 721
A7: 1 | B7: 金坛区 | C7: =SUM(D7:H7) -> 3385.66 | D7: =中央农业产业发展专项!C6 -> 3080 | E7: =中央粮油生产保障专项!C6 -> 8.47 | F7: =中央农业防灾减灾和水利救灾专项!C6 -> 41.24 | G7: =中央农业经营主体能力提升资金!C6 -> 240.15 | H7: =中央农业生态资源保护专项!C6 -> 15.8
A8: 2 | B8: 武进区 | C8: =SUM(D8:H8) -> 829.449 | D8: =中央农业产业发展专项!C7 -> 0 | E8: =中央粮油生产保障专项!C7 -> 11.11 | F8: =中央农业防灾减灾和水利救灾专项!C7 -> 6.069 | G8: =中央农业经营主体能力提升资金!C7 -> 214.27 | H8: =中央农业生态资源保护专项!C7 -> 598
A9: 3 | B9: 新北区 | C9: =SUM(D9:H9) -> 810.85 | D9: =中央农业产业发展专项!C8 -> 700 | E9: =中央粮油生产保障专项!C8 -> 5.78 | F9: =中央农业防灾减灾和水利救灾专项!C8 -> 7.09 | G9: =中央农业经营主体能力提升资金!C8 -> 97.98 | H9: =中央农业生态资源保护专项!C8 -> 0
A10: 4 | B10: 天宁区 | C10: =SUM(D10:H10) -> 41.831 | D10: =中央农业产业发展专项!C9 -> 10 | E10: =中央粮油生产保障专项!C9 -> 2.2 | F10: =中央农业防灾减灾和水利救灾专项!C9 -> 0.831 | G10: =中央农业经营主体能力提升资金!C9 -> 28.8 | H10: =中央农业生态资源保护专项!C9 -> 0
A11: 5 | B11: 钟楼区 | C11: =SUM(D11:H11) -> 29.78 | D11: =中央农业产业发展专项!C10 -> 0 | E11: =中央粮油生产保障专项!C10 -> 1.18 | F11: =中央农业防灾减灾和水利救灾专项!C10 -> 0 | G11: =中央农业经营主体能力提升资金!C10 -> 26.4 | H11: =中央农业生态资源保护专项!C10 -> 2.2
A12: 6 | B12: 经开区 | C12: =SUM(D12:H12) -> 2.93 | D12: =中央农业产业发展专项!C11 -> 0 | E12: =中央粮油生产保障专项!C11 -> 2.16 | F12: =中央农业防灾减灾和水利救灾专项!C11 -> 0.77 | G12: =中央农业经营主体能力提升资金!C11 -> 0 | H12: =中央农业生态资源保护专项!C11 -> 0
A13: 7 | B13: 农业农村局 本级 | C13: =SUM(D13:H13) -> 120 | D13: 0 | E13: 0 | F13: 0 | G13: =中央农业经营主体能力提升资金!C12 -> 15 | H13: =中央农业生态资源保护专项!C12 -> 105

Sheet 中央农业产业发展专项
A1: 附件：
A2: 2024年中央农业产业发展专项资金（第二批）下达分配资金明细表
F3: 单位：万元
A4: 序号 | B4: 辖区 | C4: 合计 | D4: 国家级畜禽遗传保护 | E4: 核心育种场生产性能测定 | F4: 国家现代农业产业园 | G4: 农业产业强镇
A5: 合计 | C5: =SUM(D5:G5) -> 3790 | D5: =SUM(D6:D11) -> 10 | E5: =SUM(E6:E11) -> 80 | F5: =SUM(F6:F11) -> 3000 | G5: =SUM(G6:G11) -> 700
A6: 1 | B6: 金坛区 | C6: =SUM(D6:G6) -> 3080 | E6: 80 | F6: 3000
A7: 2 | B7: 武进区 | C7: =SUM(D7:G7) -> 0
A8: 3 | B8: 新北区 | C8: =SUM(D8:G8) -> 700 | G8: 700
A9: 4 | B9: 天宁区 | C9: =SUM(D9:G9) -> 10 | D9: 10
A10: 5 | B10: 钟楼区 | C10: =SUM(D10:G10) -> 0
A11: 6 | B11: 经开区 | C11: =SUM(D11:G11) -> 0
A12: 责 任 处 室 | D12: 畜牧兽医处 | F12: 产业化处

Sheet 中央粮油生产保障专项
A1: 附件：
A2: 2024年中央粮油生产保障专项资金（第二批）下达分配明细表
D3: 单位：万元
A4: 序号 | B4: 辖区 | C4: 合计 | D4: 油菜扩种
A5: 合计 | C5: =SUM(D5:D5) -> 30.9 | D5: =SUM(D6:D11) -> 30.9
A6: 1 | B6: 金坛区 | C6: =SUM(D6:D6) -> 8.47 | D6: 8.47
A7: 2 | B7: 武进区 | C7: =SUM(D7:D7) -> 11.11 | D7: 11.11
A8: 3 | B8: 新北区 | C8: =SUM(D8:D8) -> 5.78 | D8: 5.78
A9: 4 | B9: 天宁区 | C9: =SUM(D9:D9) -> 2.2 | D9: 2.2
A10: 5 | B10: 钟楼区 | C10: =SUM(D10:D10) -> 1.18 | D10: 1.18
A11: 6 | B11: 经开区 | C11: =SUM(D11:D11) -> 2.16 | D11: 2.16
A12: 责 任 处 室 | D12: 种植业处

Sheet 中央农业防灾减灾和水利救灾专项
A1: 附件：
A2: 2024年中央农业防灾减灾和水利救灾专项资金（第二批）拟下达分配明细表
E3: 单位：万元
A4: 序号 | B4: 辖区 | C4: 合计 | D4: 动物强制免疫 | E4: 养殖环节无害化处理
A5: 合计 | C5: =SUM(D5:E5) -> 56 | D5: =SUM(D6:D11) -> 33 | E5: =SUM(E6:E11) -> 23
A6: 1 | B6: 金坛区 | C6: =SUM(D6:E6) -> 41.24 | D6: 28 | E6: 13.24
A7: 2 | B7: 武进区 | C7: =SUM(D7:E7) -> 6.069 | D7: 5 | E7: 1.069
A8: 3 | B8: 新北区 | C8: =SUM(D8:E8) -> 7.09 | E8: 7.09
A9: 4 | B9: 天宁区 | C9: =SUM(D9:E9) -> 0.831 | E9: 0.831
A10: 5 | B10: 钟楼区 | C10: =SUM(D10:E10) -> 0
A11: 6 | B11: 经开区 | C11: =SUM(D11:E11) -> 0.77 | E11: 0.77
A12: 责 任 处 室 | D12: 畜牧兽医处

Sheet 中央农业经营主体能力提升资金
A1: 附件：
A2: 2024年中央农业经营主体能力提升专项资金（第二批）下达分配明细表
D3: 单位：万元
A4: 序号 | B4: 辖区 | C4: 合计 | D4: 基层农技推广体系改革与建设 | E4: 新型农业经营主体培育
A5: 合计 | C5: =SUM(D5:E5) -> 622.6 | D5: =SUM(D6:D12) -> 65.2 | E5: =SUM(E6:E12) -> 557.4
A6: 1 | B6: 金坛区 | C6: =SUM(D6:E6) -> 240.15 | D6: 43.35 | E6: 196.8
A7: 2 | B7: 武进区 | C7: =SUM(D7:E7) -> 214.27 | D7: 10.87 | E7: 203.4
A8: 3 | B8: 新北区 | C8: =SUM(D8:E8) -> 97.98 | D8: 10.98 | E8: 87
A9: 4 | B9: 天宁区 | C9: =SUM(D9:E9) -> 28.8 | E9: 28.8
A10: 5 | B10: 钟楼区 | C10: =SUM(D10:E10) -> 26.4 | E10: 26.4
A11: 6 | B11: 经开区 | C11: =SUM(D11:E11) -> 0
A12: 7 | B12: 局本级 | C12: =SUM(D12:E12) -> 15 | E12: 15
A13: 责 任 处 室 | D13: 科教处 | E13: 合作处

Sheet 中央农业生态资源保护专项
A1: 附件：
A2: 2024年中央农业生态资源保护专项资金（第二批）下达分配明细表
F3: 单位：万元
A4: 序号 | B4: 辖区 | C4: 合计 | D4: 地膜科学使用回收 | E4: 农作物秸秆综合利用 | F4: 渔业资源保护
A5: 合计 | C5: =SUM(D5:F5) -> 721 | D5: =SUM(D6:D12) -> 46 | E5: =SUM(E6:E12) -> 570 | F5: =SUM(F6:F12) -> 105
A6: 1 | B6: 金坛区 | C6: =SUM(D6:F6) -> 15.8 | D6: 15.8
A7: 2 | B7: 武进区 | C7: =SUM(D7:F7) -> 598 | D7: 28 | E7: 570
A8: 3 | B8: 新北区 | C8: =SUM(D8:F8) -> 0
A9: 4 | B9: 天宁区 | C9: =SUM(D9:F9) -> 0
A10: 5 | B10: 钟楼区 | C10: =SUM(D10:F10) -> 2.2 | D10: 2.2
A11: 6 | B11: 经开区 | C11: =SUM(D11:F11) -> 0
A12: 7 | B12: 局本级 | C12: =SUM(D12:F12) -> 105 | F12: 105
A13: 责 任 处 室 | D13: 种植业处 | E13: 科教处 | F13: 渔业处

Sheet Sheet1
