Workbook

Sheet 汇总表
A1: 2024年省级农业农村专项资金（第二批）汇总表
G2: 单位：万元
A3: 序号 | B3: 辖市、区 | C3: 合 计 | D3: 现代农业发展专项 | E3: 科技创新与推广专项 | F3: 农业公共服务专项 | G3: 农业生态保护与资源利用专项
A4: 合 计 | C4: =D4+E4+F4+G4 -> 3910.8 | D4: =SUM(D5:D12) -> 2412.1 | E4: =SUM(E5:E12) -> 190 | F4: =SUM(F5:F12) -> 798.7 | G4: =SUM(G5:G12) -> 510
A5: 1 | B5: 溧阳市 | C5: =D5+E5+F5+G5 -> 230 | D5: =现代农业发展专项!C5 -> 230 | E5: 0 | F5: 0 | G5: 0
A6: 1 | B6: 金坛区 | C6: =D6+E6+F6+G6 -> 2637.44 | D6: =现代农业发展专项!C6 -> 2052.1 | E6: =科技创新与推广!C5 -> 100 | F6: ='农业公共服务 '!C5 -> 302 | G6: ='农业生态保护与资源化利用 '!C5 -> 183.34
A7: 2 | B7: 武进区 | C7: =D7+E7+F7+G7 -> 389.9 | D7: =现代农业发展专项!C7 -> 0 | E7: =科技创新与推广!C6 -> 0 | F7: ='农业公共服务 '!C6:C6 -> 226.57 | G7: ='农业生态保护与资源化利用 '!C6 -> 163.33
A8: 3 | B8: 新北区 | C8: =D8+E8+F8+G8 -> 313.02 | D8: =现代农业发展专项!C8 -> 0 | E8: =科技创新与推广!C7 -> 60 | F8: ='农业公共服务 '!C7 -> 89.69 | G8: ='农业生态保护与资源化利用 '!C7 -> 163.33
A9: 4 | B9: 天宁区 | C9: =D9+E9+F9+G9 -> 43.8 | D9: =现代农业发展专项!C9 -> 0 | E9: =科技创新与推广!C8 -> 30 | F9: ='农业公共服务 '!C8 -> 13.8 | G9: ='农业生态保护与资源化利用 '!C8 -> 0
A10: 5 | B10: 钟楼区 | C10: =D10+E10+F10+G10 -> 3.64 | D10: =现代农业发展专项!C10 -> 0 | E10: =科技创新与推广!C9 -> 0 | F10: ='农业公共服务 '!C9 -> 3.64 | G10: ='农业生态保护与资源化利用 '!C9 -> 0
A11: 6 | B11: 经开区 | C11: =D11+E11+F11+G11 -> 158 | D11: =现代农业发展专项!C11 -> 25 | E11: =科技创新与推广!C10 -> 0 | F11: ='农业公共服务 '!C10 -> 133 | G11: ='农业生态保护与资源化利用 '!C9 -> 0
A12: 7 | B12: 市本级 | C12: =D12+E12+F12+G12 -> 135 | D12: =现代农业发展专项!C12 -> 105 | E12: 0 | F12: ='农业公共服务 '!C11 -> 30 | G12: 0

Sheet 现代农业发展专项
A1: 2024年省级现代农业发展专项资金（第二批）下达分配明细表
G2: 单位：万元
A3: 序号 | B3: 辖市、区 | C3: 合 计 | D3: 2022年省级现代农业产业高质量发展示范园建设（第二批资金） | E3: 现代设施农业贷款贴息 | F3: “苏韵乡情”休闲农业宣传推介 | G3: 绿色优质农产品新品培育推广工程 | H3: 区域公用品牌建设
A4: 合 计 | C4: =SUM(D4:H4) -> 2412.1 | D4: 2000 | E4: =SUM(E5:E12) -> 2.1 | F4: =SUM(F5:F12) -> 180 | G4: =SUM(G5:G12) -> 130 | H4: =SUM(H5:H12) -> 100
A5: 1 | B5: 溧阳市 | C5: =SUM(D5:H5) -> 230 | F5: 100 | G5: 130
A6: 1 | B6: 金坛区 | C6: =SUM(D6:H6) -> 2052.1 | D6: 2000 | E6: 2.1 | F6: 50
A7: 2 | B7: 武进区 | C7: =SUM(D7:H7) -> 0
A8: 3 | B8: 新北区 | C8: =SUM(D8:H8) -> 0
A9: 4 | B9: 天宁区 | C9: =SUM(D9:H9) -> 0
A10: 5 | B10: 钟楼区 | C10: =SUM(D10:H10) -> 0
A11: 6 | B11: 经开区 | C11: =SUM(D11:H11) -> 25 | H11: 25
A12: 7 | B12: 市本级 | C12: =SUM(D12:H12) -> 105 | F12: 30 | H12: 75
A13: 责任处室 | D13: 产业化处 | G13: 质监处 | H13: 信息处

Sheet 科技创新与推广
A1: 2024年省级科技创新与推广资金（第二批）下达分配明细表
F2: 单位：万元
A3: 序号 | B3: 辖 区 | C3: 合 计 | D3: 2022-2023年农业生产全程全面机械化推进项目（尾款） | E3: 水产良种保种及亲本更新 | F3: 水产种质资源保护区建设、管护
A4: 合 计 | C4: =SUM(D4:F4) -> 190 | D4: =SUM(D5:D10) -> 130 | E4: =SUM(E5:E10) -> 30 | F4: =SUM(F5:F10) -> 30
A5: 1 | B5: 金坛区 | C5: =SUM(D5:F5) -> 100 | D5: 70 | F5: 30
A6: 2 | B6: 武进区 | C6: =SUM(D6:F6) -> 0
A7: 3 | B7: 新北区 | C7: =SUM(D7:F7) -> 60 | D7: 60
A8: 4 | B8: 天宁区 | C8: =SUM(D8:F8) -> 30 | E8: 30
A9: 5 | B9: 钟楼区 | C9: =SUM(D9:F9) -> 0
A10: 6 | B10: 经开区 | C10: =SUM(D10:F10) -> 0
A11: 责任处室 | D11: 农机处 | E11: 渔业处

Sheet 农业公共服务 
A1: 2024年省级农业公共服务专项资金（第二批）下达分配明细表
F2: 单位：万元
A3: 序号 | B3: 辖 区 | C3: 合 计 | D3: 农村宅基地改革试点 | E3: 农产品质量安全监管 | F3: 粮食生产应急救灾资金
A4: 合 计 | C4: =D4+E4+F4 -> 798.7 | D4: =SUM(D5:D11) -> 337 | E4: =SUM(E5:E11) -> 27.7 | F4: =SUM(F5:F11) -> 434
A5: 1 | B5: 金坛区 | C5: =D5+E5+F5 -> 302 | D5: 50 | E5: 7.79 | F5: 244.21
A6: 2 | B6: 武进区 | C6: =D6+E6+F6 -> 226.57 | D6: 139 | E6: 8.66 | F6: 78.91
A7: 3 | B7: 新北区 | C7: =D7+E7+F7 -> 89.69 | E7: 6.93 | F7: 82.76
A8: 4 | B8: 天宁区 | C8: =D8+E8+F8 -> 13.8 | E8: 0.86 | F8: 12.94
A9: 5 | B9: 钟楼区 | C9: =D9+E9+F9 -> 3.64 | E9: 0.86 | F9: 2.78
A10: 6 | B10: 经开区 | C10: =D10+E10+F10 -> 133 | D10: 118 | E10: 2.6 | F10: 12.4
A11: 7 | B11: 市本级 | C11: =D11+E11+F11 -> 30 | D11: 30
A12: 责任处室 | D12: 合作处 | E12: 质监处 | F12: 种植业处

Sheet 农业生态保护与资源化利用 
A1: 2024年省级农业生态保护与资源化利用专项资金 （第二批）下达分配明细表
E2: 单位：万元
A3: 序号 | B3: 辖 区 | C3: 合 计 | D3: 2022年百亩以上连片池塘标准化改造剩余省级奖补资金 | E3: 太湖地区农业绿色发展情况监测
A4: 合 计 | C4: =D4+E4 -> 510 | D4: 20 | E4: =SUM(E5:E10) -> 490
A5: 1 | B5: 金坛区 | C5: =D5+E5 -> 183.34 | D5: 20 | E5: 163.34
A6: 2 | B6: 武进区 | C6: =D6+E6 -> 163.33 | E6: 163.33
A7: 3 | B7: 新北区 | C7: =D7+E7 -> 163.33 | E7: 163.33
A8: 4 | B8: 天宁区 | C8: 0
A9: 5 | B9: 钟楼区 | C9: 0
A10: 6 | B10: 经开区 | C10: 0
A11: 责任处室 | D11: 渔业处 | E11: 绿发处

Sheet Sheet1
