Workbook

Sheet 汇总表
A1: 2024年市级农业农村专项资金（第三批）汇总表
A3: 序号 | B3: 辖市、区 | C3: 合计 | D3: 高标准农田建设专项 | E3: 现代农业发展专项 | F3: 农业科技创新与推广专项 | G3: 农业公共服务专项 | H3: 美丽乡村发展专项
A4: 合计 | C4: =SUM(D4:H4) -> 8465.29 | D4: =D5+D6+D7+D9+D10+D11+D12 -> 253.8 | E4: =E5+E6+E7+E9+E10+E11+E12 -> 93.5 | F4: =F5+F6+F7+F9+F10+F11+F12 -> 890 | G4: =G5+G6+G7+G9+G10+G11+G12 -> 290 | H4: =H5+H6+H7+H9+H10+H11+H12 -> 6937.99
A5: 1 | B5: 溧阳市 | C5: =SUM(D5:H5) -> 2066.86 | D5: 0 | E5: =现代农业发专项专项!D5 -> 0 | F5: =科技创新与推广!C6 -> 120 | G5: ='农业公共服务 '!C5 -> 82.5 | H5: =美丽乡村发展!C6 -> 1864.36
A6: 2 | B6: 金坛区 | C6: =SUM(D6:H6) -> 1213.16 | D6: =高标准农田建设!C5 -> 105 | E6: =现代农业发专项专项!D6 -> 0 | F6: =科技创新与推广!C7 -> 10 | G6: ='农业公共服务 '!C6 -> 52.7 | H6: =美丽乡村发展!C7 -> 1045.46
A7: 3 | B7: 武进区 | C7: =SUM(D7:H7) -> 2180.93 | D7: =高标准农田建设!C6 -> 27.3 | E7: =现代农业发专项专项!D7 -> 0 | F7: =科技创新与推广!C8 -> 350 | G7: ='农业公共服务 '!C7 -> 74.7 | H7: =美丽乡村发展!C8 -> 1728.93
B8: 其中经开区 | C8: =SUM(D8:H8) -> 508 | D8: 0 | E8: =现代农业发专项专项!D8 -> 0 | F8: =科技创新与推广!C9 -> 0 | G8: ='农业公共服务 '!C8 -> 13 | H8: =美丽乡村发展!C9 -> 495
A9: 4 | B9: 新北区 | C9: =SUM(D9:H9) -> 2056.36 | D9: =高标准农田建设!C7 -> 121.5 | E9: =现代农业发专项专项!D9 -> 0 | F9: =科技创新与推广!C10 -> 410 | G9: ='农业公共服务 '!C9 -> 53.2 | H9: =美丽乡村发展!C10 -> 1471.66
A10: 5 | B10: 天宁区 | C10: =SUM(D10:H10) -> 418.49 | D10: 0 | E10: =现代农业发专项专项!D10 -> 0 | F10: =科技创新与推广!C11 -> 0 | G10: ='农业公共服务 '!C10 -> 6 | H10: =美丽乡村发展!C11 -> 412.49
A11: 6 | B11: 钟楼区 | C11: =SUM(D11:H11) -> 418.09 | D11: 0 | E11: =现代农业发专项专项!D11 -> 0 | F11: =科技创新与推广!C12 -> 0 | G11: ='农业公共服务 '!C11 -> 3 | H11: =美丽乡村发展!C12 -> 415.09
A12: 7 | B12: 局本级 | C12: =SUM(D12:H12) -> 111.4 | D12: 0 | E12: =现代农业发专项专项!C12 -> 93.5 | F12: =科技创新与推广!C13 -> 0 | G12: ='农业公共服务 '!C12 -> 17.9 | H12: 0

Sheet 高标准农田建设
A1: 2024年市级高标准农田建设专项资金下达分配明细表
D2: 单位：万元
A3: 序号 | B3: 辖市、区 | C3: 小计 | D3: 高标准农田建设
A4: 合计 | C4: =SUM(C5:C7) -> 253.8 | D4: =SUM(D5:D7) -> 253.8
A5: 1 | B5: 金坛区 | C5: =SUM(D5) -> 105 | D5: 105
A6: 2 | B6: 武进区 | C6: =SUM(D6) -> 27.3 | D6: 27.3
A7: 3 | B7: 新北区 | C7: =SUM(D7) -> 121.5 | D7: 121.5
A8: 责任处室 | D8: 农田建设处

Sheet 现代农业发专项专项
A1: 2024年市级现代农业发展专项下达分配明细表
D2: 单位：万元
A3: 序号 | B3: 辖市、区 | C3: 合计 | D3: 农业品种品质提升与宣传推介
A4: 合计 | C4: =C5+C6+C7+C9+C10+C11+C12 -> 93.5 | D4: =D5+D6+D7+D9+D10+D11+D12 -> 93.5
A5: 1 | B5: 溧阳市 | C5: =SUM(D5:D5) -> 0 | D5: 0
A6: 2 | B6: 金坛区 | C6: =SUM(D6:D6) -> 0 | D6: 0
A7: 3 | B7: 武进区 | C7: =SUM(D7:D7) -> 0 | D7: 0
B8: 其中经开区 | C8: =SUM(D8:D8) -> 0 | D8: 0
A9: 4 | B9: 新北区 | C9: =SUM(D9:D9) -> 0 | D9: 0
A10: 5 | B10: 天宁区 | C10: =SUM(D10:D10) -> 0 | D10: 0
A11: 6 | B11: 钟楼区 | C11: =SUM(D11:D11) -> 0 | D11: 0
A12: 7 | B12: 局本级 | C12: =SUM(D12:D12) -> 93.5 | D12: 93.5
A13: 责任处室 | D13: 办公室
A14: 备注：其中局本级28.5万元下达至常州市农民体育协会

Sheet 科技创新与推广
A1: 2024年市级科技创新与推广资金下达分配明细表
G2: 单位：万元
A3: 序号 | B3: 辖市、区 | C3: 合计 | D3: 农业科技创新中心建设 | E3: 特色绿色农机发展 | F3: 农业绿色高质高效
F4: 育供秧基地 | G4: 江苏第一方提高巩固
A5: 合计 | C5: =SUM(D5:G5) -> 890 | D5: =D6+D7+D8+D10+D11+D12+D13 -> 640 | E5: =E6+E7+E8+E10+E11+E12+E13 -> 110 | F5: =F6+F7+F8+F10+F11+F12+F13 -> 50 | G5: =G6+G7+G8+G10+G11+G12+G13 -> 90
A6: 1 | B6: 溧阳市 | C6: =SUM(D6:G6) -> 120 | D6: 0 | E6: 20 | F6: 10 | G6: 90
A7: 2 | B7: 金坛区 | C7: =SUM(D7:G7) -> 10 | D7: 0 | E7: 0 | F7: 10 | G7: 0
A8: 3 | B8: 武进区 | C8: =SUM(D8:G8) -> 350 | D8: 300 | E8: 20 | F8: 30 | G8: 0
B9: 其中经开区 | C9: =SUM(D9:G9) -> 0 | D9: 0 | E9: 0 | F9: 0 | G9: 0
A10: 4 | B10: 新北区 | C10: =SUM(D10:G10) -> 410 | D10: 340 | E10: 70 | F10: 0 | G10: 0
A11: 5 | B11: 天宁区 | C11: =SUM(D11:G11) -> 0 | D11: 0 | E11: 0 | F11: 0 | G11: 0
A12: 6 | B12: 钟楼区 | C12: =SUM(D12:G12) -> 0 | D12: 0 | E12: 0 | F12: 0 | G12: 0
A13: 7 | B13: 局本级 | C13: =SUM(D13:G13) -> 0 | D13: 0 | E13: 0 | F13: 0 | G13: 0
A14: 责任处室 | D14: 科教处 | E14: 农机处 | F14: 农机处 | G14: 种植业处

Sheet 农业公共服务 
A1: 2024年市级农业公共服务专项资金下达分配明细表
F2: 单元：万元
A3: 序号 | B3: 辖市、区 | C3: 合计 | D3: 农产品质量安全监管 | E3: 水产标准化健康养殖建设 | F3: 农业绿色发展监管
A4: 合计 | C4: =SUM(D4:F4) -> 290 | D4: =D5+D6+D7+D9+D10+D11+D12 -> 100 | E4: =E5+E6+E7+E9+E10+E11+E12 -> 89 | F4: =F5+F6+F7+F9+F10+F11+F12 -> 101
A5: 1 | B5: 溧阳市 | C5: =SUM(D5:F5) -> 82.5 | D5: 60 | E5: 22.5
A6: 2 | B6: 金坛区 | C6: =SUM(D6:F6) -> 52.7 | D6: 0 | E6: 17.5 | F6: 35.2
A7: 3 | B7: 武进区 | C7: =SUM(D7:F7) -> 74.7 | D7: 30 | E7: 32 | F7: 12.7
B8: 其中经开区 | C8: =SUM(D8:F8) -> 13 | D8: 10 | E8: 3 | F8: 0
A9: 4 | B9: 新北区 | C9: =SUM(D9:F9) -> 53.2 | D9: 10 | E9: 8 | F9: 35.2
A10: 5 | B10: 天宁区 | C10: =SUM(D10:F10) -> 6 | D10: 0 | E10: 6
A11: 6 | B11: 钟楼区 | C11: =SUM(D11:F11) -> 3 | D11: 0 | E11: 3
A12: 7 | B12: 局本级 | C12: =SUM(D12:F12) -> 17.9 | F12: 17.9
A13: 责任处室 | D13: 质监处 | E13: 渔业处 | F13: 绿色发展处

Sheet 美丽乡村发展
A1: 2024年市级美丽乡村发展专项资金下达分配明细表
I2: 单位：万元
A3: 序号 | B3: 辖市、区 | C3: 合 计 | D3: 农村集体经济发展（经济发展类） | E3: 村集体经济发展 （帮促增收类） | F3: 老区乡村振兴帮促 | G3: 农村人居环境整治提升（重点村奖补） | H3: 农村人居环境整治提升（红榜村奖补） | I3: 乡村片区高标准农田建设专项奖励资金
A5: 合 计 | C5: =SUM(D5:I5) -> 6937.99 | D5: =D6+D7+D8+D10+D11+D12 -> 1200 | E5: =E6+E7+E8+E10+E11+E12 -> 800 | F5: =F6+F7+F8+F10+F11+F12 -> 20 | G5: =G6+G7+G8+G10+G11+G12 -> 2500 | H5: =H6+H7+H8+H10+H11+H12 -> 320 | I5: =I6+I7+I8+I10+I11+I12 -> 2097.99
A6: 1 | B6: 溧阳市 | C6: =SUM(D6:I6) -> 1864.36 | D6: 243.66 | E6: 486 | G6: 448.7 | H6: 70 | I6: 616
A7: 2 | B7: 金坛区 | C7: =SUM(D7:I7) -> 1045.46 | D7: 74.2 | E7: 314 | F7: 20 | G7: 353.26 | H7: 80 | I7: 204
A8: 3 | B8: 武进区 | C8: =SUM(D8:I8) -> 1728.93 | D8: 349.13 | G8: =687.8+422.51 -> 1110.31 | H8: 80 | I8: =137+52.49 -> 189.49
B9: 其中经开区 | C9: =SUM(D9:I9) -> 495 | D9: 0 | G9: 422.51 | H9: 20 | I9: 52.49
A10: 4 | B10: 新北区 | C10: =SUM(D10:I10) -> 1471.66 | D10: 182.49 | G10: 267.67 | H10: 40 | I10: 981.5
A11: 5 | B11: 天宁区 | C11: =SUM(D11:I11) -> 412.49 | D11: 138.73 | G11: 186.76 | H11: 30 | I11: 57
A12: 6 | B12: 钟楼区 | C12: =SUM(D12:I12) -> 415.09 | D12: 211.79 | G12: 133.3 | H12: 20 | I12: 50
A13: 责任处站 | D13: 经管站 | E13: 社会事业处 | I13: 综合处

Sheet Sheet1
