Workbook

Sheet 汇总表
A1: 2024年市级农业农村专项资金（第四批） 汇总表
E2: 单位：万元
A3: 序号 | B3: 辖市、区 | C3: 合计 | D3: 现代农业发展专项 | E3: 农业科技创新与推广专项
A4: 合计 | C4: =SUM(D4:E4) -> 565 | D4: =SUM(D5:D8) -> 410 | E4: =SUM(E5:E8) -> 155
A5: 1 | B5: 溧阳市 | C5: =SUM(D5:E5) -> 75 | D5: =现代农业发展专项!C5 -> 60 | E5: =科技创新与推广!D5 -> 15
A6: 2 | B6: 武进区 | C6: =SUM(D6:E6) -> 100 | D6: =现代农业发展专项!C6 -> 100 | E6: 0
A7: 3 | B7: 钟楼区 | C7: =SUM(D7:E7) -> 250 | D7: =现代农业发展专项!C7 -> 250 | E7: 0
A8: 4 | B8: 局本级 | C8: =SUM(D8:E8) -> 140 | D8: 0 | E8: =科技创新与推广!D6 -> 140

Sheet 现代农业发展专项
A1: 2024年市级现代农业发展专项资金下达分配明细表
D2: 单位：万元
A3: 序号 | B3: 辖市、区 | C3: 合计 | D3: 绿色蔬菜产业基地
A4: 合计 | C4: =SUM(C5:C7) -> 410 | D4: =SUM(D5:D7) -> 410
A5: 1 | B5: 溧阳市 | C5: =SUM(D5:D5) -> 60 | D5: 60
A6: 2 | B6: 武进区 | C6: =SUM(D6:D6) -> 100 | D6: 100
A7: 3 | B7: 钟楼区 | C7: =SUM(D7:D7) -> 250 | D7: 250
A8: 责任处室 | D8: 种植业处、社会事业处

Sheet 科技创新与推广
A1: 2024年市级农业科技创新与推广专项资金下达分配明细表
D2: 单位：万元
A3: 序号 | B3: 辖市、区 | C3: 合计 | D3: “新农人”培训
A4: 合计 | C4: =SUM(D4) -> 155 | D4: =SUM(D5:D6) -> 155
A5: 1 | B5: 溧阳市 | C5: =SUM(D5:D5) -> 15 | D5: 15
A6: 2 | B6: 局本级 | C6: =SUM(D6:D6) -> 140 | D6: 140
A7: 责任处室 | D7: 科教处、种植业处
