Workbook

Sheet 汇总表
A1: 附件1
A2: 2024年省级农业农村专项资金（第四批）分配汇总表
G3: 单位：万元
A4: 序号 | B4: 辖市、区 | C4: 合 计 | D4: 现代农业发展专项 | E4: 科技创新与推广专项 | F4: 农业公共服务专项 | G4: 农业生态保护与资源利用专项 | H4: 农田建设专项
A5: 合 计 | C5: =D5+E5+F5+G5+H5 -> 4964.1 | D5: =SUM(D6:D14) -> 1030 | E5: =SUM(E6:E14) -> 896 | F5: =SUM(F6:F14) -> 542.1 | G5: =SUM(G6:G14) -> 1342 | H5: =SUM(H6:H14) -> 1154
A6: 1 | B6: 金坛区 | C6: =D6+E6+F6+G6 -> 1309.26 | D6: =现代农业发展专项!C6 -> 472 | E6: =科技创新与推广!C6 -> 94.8 | F6: ='农业公共服务 '!C6 -> 306.26 | G6: ='农业生态保护与资源化利用 '!C6 -> 436.2 | H6: =省级农田建设补助专项!C6 -> 1154
A7: 2 | B7: 武进区 | C7: =D7+E7+F7+G7 -> 720.91 | D7: =现代农业发展专项!C7 -> 331 | E7: =科技创新与推广!C7 -> 174.8 | F7: ='农业公共服务 '!C7 -> 50.41 | G7: ='农业生态保护与资源化利用 '!C7 -> 164.7
A8: 3 | B8: 新北区 | C8: =D8+E8+F8+G8 -> 1153.72 | D8: =现代农业发展专项!C8 -> 0 | E8: =科技创新与推广!C8 -> 463 | F8: ='农业公共服务 '!C8 -> 50.42 | G8: ='农业生态保护与资源化利用 '!C8 -> 640.3
A9: 4 | B9: 天宁区 | C9: =D9+E9+F9+G9 -> 68.58 | D9: =现代农业发展专项!C9 -> 0 | E9: =科技创新与推广!C9 -> 12 | F9: ='农业公共服务 '!C9 -> 10.18 | G9: ='农业生态保护与资源化利用 '!C9 -> 46.4
A10: 5 | B10: 钟楼区 | C10: =D10+E10+F10+G10 -> 263.75 | D10: =现代农业发展专项!C10 -> 189 | E10: =科技创新与推广!C10 -> 14.2 | F10: ='农业公共服务 '!C10 -> 52.55 | G10: ='农业生态保护与资源化利用 '!C10 -> 8
A11: 6 | B11: 经开区 | C11: =D11+E11+F11+G11 -> 96.58 | D11: =现代农业发展专项!C11 -> 38 | E11: =科技创新与推广!C11 -> 7.2 | F11: ='农业公共服务 '!C11 -> 4.98 | G11: ='农业生态保护与资源化利用 '!C11 -> 46.4
A12: 7 | B12: 市农业农村局本级 | C12: =D12+E12+F12+G12 -> 189 | D12: =现代农业发展专项!C12 -> 0 | E12: =科技创新与推广!C12 -> 130 | F12: ='农业公共服务 '!C12 -> 59
A13: 8 | B13: 市农业农村局推广中心 | C13: =D13+E13+F13+G13 -> 0.5 | F13: ='农业公共服务 '!C13 -> 0.5
A14: 9 | B14: 市农业农村局农安中心 | C14: =D14+E14+F14+G14 -> 7.8 | F14: ='农业公共服务 '!C14 -> 7.8

Sheet 现代农业发展专项
A1: 附件1-1
A2: 2024年省级现代农业发展专项资金下达分配明细表
G3: 单位：万元
A4: 序号 | B4: 辖市、区 | C4: 合 计 | D4: 2023年农业全产业链建设（尾款） | E4: 2024年农业全产业链建设 | F4: 粮食产地烘干中心智能化绿色化改造提升 | G4: 农机报废更新补贴 | H4: 2024年奶牛肉牛养殖临时性补贴
A5: 合 计 | C5: =SUM(D5:H5) -> 1030 | D5: =D6+D7+D8+D9+D10+D11+D12 -> 284 | E5: =E6+E7+E8+E9+E10+E11+E12 -> 515 | F5: =SUM(F6:F12) -> 200 | G5: =SUM(G6:G12) -> 11 | H5: =SUM(H6:H12) -> 20
A6: 1 | B6: 金坛区 | C6: =SUM(D6:H6) -> 472 | D6: 192 | E6: 160 | F6: 100 | H6: 20
A7: 2 | B7: 武进区 | C7: =SUM(D7:H7) -> 331 | E7: 220 | F7: 100 | G7: 11
A8: 3 | B8: 新北区 | C8: =SUM(D8:H8) -> 0
A9: 4 | B9: 天宁区 | C9: =SUM(D9:H9) -> 0
A10: 5 | B10: 钟楼区 | C10: =SUM(D10:H10) -> 189 | D10: 54 | E10: 135
A11: 6 | B11: 经开区 | C11: =SUM(D11:H11) -> 38 | D11: 38
A12: 7 | B12: 市农业农村局本级 | C12: =SUM(D12:H12) -> 0
A13: 责任处室 | D13: 产业处 | F13: 农机处 | H13: 畜牧处

Sheet 科技创新与推广
A1: 附件1-2
A2: 2024年省级农业科技创新与推广补助专项资金下达分配明细表
H3: 单位：万元
A4: 序号 | B4: 辖 区 | C4: 合 计 | D4: 现代农机装备与技术推广 | E4: 种业振兴揭榜挂帅 | F4: 高素质农民培育 | G4: 农业科技创新中心建设 | H4: 农业农村人才培养
A5: 合 计 | C5: =SUM(D5:H5) -> 896 | D5: =SUM(D6:D11) -> 150 | E5: =SUM(E6:E11) -> 40 | F5: =SUM(F6:F11) -> 161 | G5: =SUM(G6:G11) -> 415 | H5: =SUM(H6:H12) -> 130
A6: 1 | B6: 金坛区 | C6: =SUM(D6:H6) -> 94.8 | E6: 40 | F6: 54.8
A7: 2 | B7: 武进区 | C7: =SUM(D7:H7) -> 174.8 | F7: 54.8 | G7: 120
A8: 3 | B8: 新北区 | C8: =SUM(D8:H8) -> 463 | D8: 150 | F8: 18 | G8: 295
A9: 4 | B9: 天宁区 | C9: =SUM(D9:H9) -> 12 | F9: 12
A10: 5 | B10: 钟楼区 | C10: =SUM(D10:H10) -> 14.2 | F10: 14.2
A11: 6 | B11: 经开区 | C11: =SUM(D11:H11) -> 7.2 | F11: 7.2
A12: 7 | B12: 市农业农村局本级 | C12: =SUM(D12:H12) -> 130 | H12: 130
A13: 责任处室 | D13: 农机处 | E13: 科教处

Sheet 农业公共服务 
A1: 附件1-3
A2: 2024年省级农业公共服务补助专项资金下达分配明细表
L3: 单位：万元
A4: 序号 | B4: 辖 区 | C4: 合 计 | D4: 农产品质量安全监管（剩余资金） | E4: 农机应急作业服务能力建设 | F4: 开展化肥农药实名制购买定额制使用试点（第二批） | G4: 农村沼气设施安全处置和农村能源安全生产排查整治 | H4: 农作物种子质量安全监管 | I4: 农业农村大数据建设 | J4: 农业农村信息统计监测调查 | K4: 动物疫病防控 | L4: 养殖和屠宰环节病死猪无害化处理 | M4: 水生动物疫病防控
A5: 合 计 | C5: =D5+E5+F5+G5+H5+I5+J5+K5+L5+M5 -> 542.1 | D5: =SUM(D6:D14) -> 12.1 | E5: =SUM(E6:E14) -> 10 | F5: =SUM(F6:F14) -> 20 | G5: =SUM(G6:G14) -> 9 | H5: =SUM(H6:H14) -> 47 | I5: =SUM(I6:I14) -> 114 | J5: =SUM(J6:J14) -> 14 | K5: =SUM(K6:K14) -> 163.69 | ... M5: =SUM(M6:M14) -> 42
A6: 1 | B6: 金坛区 | C6: =D6+E6+F6+G6+H6+I6+J6+K6+L6+M6 -> 306.26 | D6: 1.21 | E6: 10 | F6: 20 | H6: 24.5 | I6: 19 | J6: 3 | K6: 157.81 | L6: 51.54 | M6: 19.2
A7: 2 | B7: 武进区 | C7: =D7+E7+F7+G7+H7+I7+J7+K7+L7+M7 -> 50.41 | D7: 1.34 | H7: 11.5 | I7: 14 | J7: 3 | L7: 1.37 | M7: 19.2
A8: 3 | B8: 新北区 | C8: =D8+E8+F8+G8+H8+I8+J8+K8+L8+M8 -> 50.42 | D8: 1.07 | H8: 10.5 | I8: 17 | J8: 3 | L8: 18.85
A9: 4 | B9: 天宁区 | C9: =D9+E9+F9+G9+H9+I9+J9+K9+L9+M9 -> 10.18 | D9: 0.14 | J9: 1.5 | K9: 5.88 | L9: 1.06 | M9: 1.6
A10: 5 | B10: 钟楼区 | C10: =D10+E10+F10+G10+H10+I10+J10+K10+L10+M10 -> 52.55 | D10: 0.14 | I10: 14 | J10: 1.5 | L10: 36.51 | M10: 0.4
A11: 6 | B11: 经开区 | C11: =D11+E11+F11+G11+H11+I11+J11+K11+L11+M11 -> 4.98 | D11: 0.4 | J11: 2 | L11: 0.98 | M11: 1.6
A12: 7 | B12: 市农业农村局本级 | C12: =D12+E12+F12+G12+H12+I12+J12+K12+L12+M12 -> 59 | G12: 9 | I12: 50
B13: 市农业农村局推广中心 | C13: =D13+E13+F13+G13+H13+I13+J13+K13+L13+M13 -> 0.5 | H13: 0.5
B14: 市农业农村局农安中心 | C14: =D14+E14+F14+G14+H14+I14+J14+K14+L14+M14 -> 7.8 | D14: 7.8
A15: 责任处室 | D15: 质监处（农安中心） | E15: 农机处 | F15: 种植业处 | G15: 绿发处 | H15: 科教处（推广中心） | I15: 信息处 | K15: 畜牧处 | L15: 畜牧处 | M15: 渔业处

Sheet 农业生态保护与资源化利用 
A1: 附件1-4
A2: 2024年省级农业生态保护与资源利用补助专项资金下达分配明细表
I3: 单位：万元
A4: 序号 | B4: 辖 区 | C4: 合 计 | D4: 养殖场畜禽粪污处置设施改造更新 | E4: 耕地质量监测与安全利用 | F4: 农作物农药和化肥减量增效 | G4: 江苏省全国第三次土壤普查 | H4: 秸秆综合利用 | I4: 池塘标准化改造
A5: 合 计 | C5: =D5+E5+F5+G5+H5+I5 -> 1342 | D5: =SUM(D6:D11) -> 150 | E5: =SUM(E6:E11) -> 264.1 | F5: =SUM(F6:F11) -> 180 | G5: =SUM(G6:G11) -> 110 | H5: =SUM(H6:H11) -> 337.9 | I5: 300
A6: 1 | B6: 金坛区 | C6: =D6+E6+F6+G6+H6+I6 -> 436.2 | E6: 143 | F6: 80 | G6: 35.3 | H6: 177.9
A7: 2 | B7: 武进区 | C7: =D7+E7+F7+G7+H7+I7 -> 164.7 | D7: 12.5 | E7: 52.8 | F7: 60 | G7: 39.4
A8: 3 | B8: 新北区 | C8: =D8+E8+F8+G8+H8+I8 -> 640.3 | D8: 100 | E8: 50 | F8: 40 | G8: 20.3 | H8: 130 | I8: 300
A9: 4 | B9: 天宁区 | C9: =D9+E9+F9+G9+H9+I9 -> 46.4 | D9: 37.5 | E9: 2.8 | G9: 6.1
A10: 5 | B10: 钟楼区 | C10: =D10+E10+F10+G10+H10+I10 -> 8 | E10: 4 | G10: 4
A11: 6 | B11: 经开区 | C11: =D11+E11+F11+G11+H11+I11 -> 46.4 | E11: 11.5 | G11: 4.9 | H11: 30
A12: 责任处室 | D12: 畜牧处 | E12: 农田处 | H12: 绿发处 | I12: 渔业处

Sheet 省级农田建设补助专项
A1: 附件1-4
A2: 2024年省级农田建设补助专项资金下达分配明细表
D3: 单位：万元
A4: 序号 | B4: 辖 区 | C4: 合 计 | D4: 耕地有机质提升
A5: 合 计 | C5: 1154 | D5: 1154
A6: 1 | B6: 金坛区 | C6: 1154 | D6: 1154
A7: 2 | B7: 武进区
A8: 3 | B8: 新北区
A9: 4 | B9: 天宁区
A10: 5 | B10: 钟楼区
A11: 6 | B11: 经开区
A12: 责任处室 | D12: 农田处
