Workbook

Sheet 汇总表
A1: 附件：
A2: 2025年中央转移支付资金拟下达（第一批）分配汇总表
G3: 单位：万元
A4: 序号 | B4: 辖区 | C4: 合计 | D4: 粮油生产保障专项资金 | E4: 农业生产发展专项资金 | F4: 农业生态资源保护专项资金 | G4: 防灾减灾和水利救灾（动物防疫）专项资金
A6: 合计 | C6: =SUM(D6:G6) -> 1041.8 | D6: =SUM(D7:D12) -> 298.9 | E6: =SUM(E7:E12) -> 600 | F6: =SUM(F7:F12) -> 24.5 | G6: =SUM(G7:G12) -> 118.4
A7: 1 | B7: 金坛区 | C7: =SUM(D7:G7) -> 615.26 | D7: =粮油生产保障专项!C6 -> 135.31 | E7: =农业生产发展专项!C6 -> 416 | F7: =农业生态资源保护专项!C6 -> 0 | G7: =防灾减灾和水利救灾专项!C6 -> 63.95
A8: 2 | B8: 武进区 | C8: =SUM(D8:G8) -> 173.22 | D8: =粮油生产保障专项!C7 -> 49.33 | E8: =农业生产发展专项!C7 -> 71 | F8: =农业生态资源保护专项!C7 -> 24.5 | G8: =防灾减灾和水利救灾专项!C7 -> 28.39
A9: 3 | B9: 新北区 | C9: =SUM(D9:G9) -> 158.97 | D9: =粮油生产保障专项!C8 -> 68.33 | E9: =农业生产发展专项!C8 -> 77 | F9: =农业生态资源保护专项!C8 -> 0 | G9: =防灾减灾和水利救灾专项!C8 -> 13.64
A10: 4 | B10: 天宁区 | C10: =SUM(D10:G10) -> 33.1 | D10: =粮油生产保障专项!C9 -> 20.68 | E10: =农业生产发展专项!C9 -> 5 | F10: =农业生态资源保护专项!C9 -> 0 | G10: =防灾减灾和水利救灾专项!C9 -> 7.42
A11: 5 | B11: 钟楼区 | C11: =SUM(D11:G11) -> 10.76 | D11: =粮油生产保障专项!C10 -> 10.76 | E11: =农业生产发展专项!C10 -> 0 | F11: =农业生态资源保护专项!C10 -> 0 | G11: =防灾减灾和水利救灾专项!C10 -> 0
A12: 6 | B12: 经开区 | C12: =SUM(D12:G12) -> 50.49 | D12: =粮油生产保障专项!C11 -> 14.49 | E12: =农业生产发展专项!C11 -> 31 | F12: =农业生态资源保护专项!C11 -> 0 | G12: =防灾减灾和水利救灾专项!C11 -> 5

Sheet 粮油生产保障专项
A1: 附件：
A2: 2025年中央粮油生产保障专项资金（第一批）下达分配明细表
E3: 单位：万元
A4: 序号 | B4: 辖区 | C4: 合计 | D4: 小麦“一喷三防” | E4: 扩种油菜
A5: 合计 | C5: =SUM(D5:E5) -> 298.9 | D5: =SUM(D6:D11) -> 141 | E5: =SUM(E6:E11) -> 157.9
A6: 1 | B6: 金坛区 | C6: =SUM(D6:E6) -> 135.31 | D6: 89.38 | E6: 45.93
A7: 2 | B7: 武进区 | C7: =SUM(D7:E7) -> 49.33 | D7: 17.71 | E7: 31.62
A8: 3 | B8: 新北区 | C8: =SUM(D8:E8) -> 68.33 | D8: 25.43 | E8: 42.9
A9: 4 | B9: 天宁区 | C9: =SUM(D9:E9) -> 20.68 | D9: 4.36 | E9: 16.32
A10: 5 | B10: 钟楼区 | C10: =SUM(D10:E10) -> 10.76 | D10: 0.82 | E10: 9.94
A11: 6 | B11: 经开区 | C11: =SUM(D11:E11) -> 14.49 | D11: 3.3 | E11: 11.19
A12: 责 任 处 室 | D12: 种植业处

Sheet 农业生产发展专项
A1: 附件：
A2: 2025年中央农业生产发展专项资金（第一批） 下达分配明细表
D3: 单位：万元
A4: 序号 | B4: 辖区 | C4: 合计 | D4: 农机购置与应用补贴
A5: 合计 | C5: =SUM(D5:D5) -> 600 | D5: =SUM(D6:D11) -> 600
A6: 1 | B6: 金坛区 | C6: =SUM(D6:D6) -> 416 | D6: 416
A7: 2 | B7: 武进区 | C7: =SUM(D7:D7) -> 71 | D7: 71
A8: 3 | B8: 新北区 | C8: =SUM(D8:D8) -> 77 | D8: 77
A9: 4 | B9: 天宁区 | C9: =SUM(D9:D9) -> 5 | D9: 5
A10: 5 | B10: 钟楼区 | C10: =SUM(D10:D10) -> 0 | D10: 0
A11: 6 | B11: 经开区 | C11: =SUM(D11:D11) -> 31 | D11: 31
A12: 责 任 处 室 | D12: 农机处

Sheet 农业生态资源保护专项
A1: 附件：
A2: 2025年中央农业生态资源保护专项资金（第一批）下达分配明细表
D3: 单位：万元
A4: 序号 | B4: 辖 区 | C4: 合计 | D4: 地膜科学使用回收
A5: 合 计 | C5: =SUM(D5:D5) -> 24.5 | D5: =SUM(D6:D11) -> 24.5
A6: 1 | B6: 金坛区 | C6: =SUM(D6:D6) -> 0
A7: 2 | B7: 武进区 | C7: =SUM(D7:D7) -> 24.5 | D7: 24.5
A8: 3 | B8: 新北区 | C8: =SUM(D8:D8) -> 0
A9: 4 | B9: 天宁区 | C9: =SUM(D9:D9) -> 0
A10: 5 | B10: 钟楼区 | C10: =SUM(D10:D10) -> 0
A11: 6 | B11: 经开区 | C11: =SUM(D11:D11) -> 0
A12: 责 任 处 室 | D12: 种植业处

Sheet 防灾减灾和水利救灾专项
A1: 附件：
A2: 2025年中央防灾减灾和水利救灾（动物防疫）专项资金 （第一批）下达分配明细表
E3: 单位：万元
A4: 序号 | B4: 辖区 | C4: 合计 | D4: 强制免疫 | E4: 养殖环节无害化处理
A5: 合计 | C5: =SUM(D5:E5) -> 118.4 | D5: =SUM(D6:D11) -> 99.2 | E5: =SUM(E6:E11) -> 19.2
A6: 1 | B6: 金坛区 | C6: =SUM(D6:E6) -> 63.95 | D6: 52.2 | E6: 11.75
A7: 2 | B7: 武进区 | C7: =SUM(D7:E7) -> 28.39 | D7: 25 | E7: 3.39
A8: 3 | B8: 新北区 | C8: =SUM(D8:E8) -> 13.64 | D8: 12 | E8: 1.64
A9: 4 | B9: 天宁区 | C9: =SUM(D9:E9) -> 7.42 | D9: 5 | E9: 2.42
A10: 5 | B10: 钟楼区 | C10: =SUM(D10:E10) -> 0 | D10: 0
A11: 6 | B11: 经开区 | C11: =SUM(D11:E11) -> 5 | D11: 5
A12: 责 任 处 室 | D12: 畜牧兽医处
