Workbook

Sheet 汇总表
A1: 2025年市级农业农村专项资金（第一批）汇总表
E2: 单位：万元
A3: 序号 | B3: 辖市、区 | C3: 合 计 | D3: 现代农业发展专项 | E3: 乡村振兴专项
A4: 合 计 | C4: =SUM(D4:E4) -> 6159.75 | D4: =SUM(D5:D16) -> 5406.75 | E4: =SUM(E5:E16) -> 753
A5: 1 | B5: 溧阳市 | C5: =SUM(D5:E5) -> 1814.47 | D5: =现代农业发展专项!C6 -> 1683.57 | E5: =乡村振兴专项!C5 -> 130.9
A6: 2 | B6: 金坛区 | C6: =SUM(D6:E6) -> 1183.05 | D6: =现代农业发展专项!C7 -> 1076.15 | E6: =乡村振兴专项!C6 -> 106.9
A7: 3 | B7: 武进区 | C7: =SUM(D7:E7) -> 766.18 | D7: =现代农业发展专项!C8 -> 667.28 | E7: =乡村振兴专项!C7 -> 98.9
A8: 4 | B8: 新北区 | C8: =SUM(D8:E8) -> 515.05 | D8: =现代农业发展专项!C9 -> 432.15 | E8: =乡村振兴专项!C8 -> 82.9
A9: 5 | B9: 天宁区 | C9: =SUM(D9:E9) -> 102.45 | D9: =现代农业发展专项!C10 -> 97.45 | E9: =乡村振兴专项!C9 -> 5
A10: 6 | B10: 钟楼区 | C10: =SUM(D10:E10) -> 112.44 | D10: =现代农业发展专项!C11 -> 107.44 | E10: =乡村振兴专项!C10 -> 5
A11: 7 | B11: 经开区 | C11: =SUM(D11:E11) -> 263.96 | D11: =现代农业发展专项!C12 -> 204.96 | E11: =乡村振兴专项!C11 -> 59
A12: 8 | B12: 局本级 | C12: =SUM(D12:E12) -> 857.15 | D12: =现代农业发展专项!C13 -> 622.75 | E12: =乡村振兴专项!C12 -> 234.4
A13: 9 | B13: 农业技术推广中心 | C13: =SUM(D13:E13) -> 130 | D13: =现代农业发展专项!C14 -> 130 | E13: 0
A14: 10 | B14: 动物疫病预防控制中心 | C14: =SUM(D14:E14) -> 230 | D14: =现代农业发展专项!C15 -> 230 | E14: 0
A15: 11 | B15: 农产品质量安全中心 | C15: =SUM(D15:E15) -> 155 | D15: =现代农业发展专项!C16 -> 155 | E15: 0
A16: 12 | B16: 常州市自然资源和规划服务中心 | C16: =SUM(D16:E16) -> 30 | D16: 0 | E16: =乡村振兴专项!C13 -> 30

Sheet 现代农业发展专项
A1: 2025年市级现代农业发展专项资金（第一批）下达分配明细表
U2: 单位：万元
A3: 序号 | B3: 辖市、区 | C3: 合计 | D3: 农村创业大赛 | E3: 重大项目推进及乡村振兴规划 | F3: 农业科技创新和示范推广项目 | G3: 国家观赏竹种质资源保护 | H3: 丘陵山区适用小型机械推广应用建设项目 | I3: 农业品牌品质提升与宣传推介 | J3: 农业智慧化应用水平提升 | N3: 农产品绿色安全 | P3: 2024年稻麦周年亩产超吨粮公关方奖补 | Q3: 耕地质量监测点 | R3: 第三次全国土壤普查 | S3: 水稻田补偿 | T3: 农产品质量安全 | U3: 畜产品安全 （无害化处理） | V3: 动物疫病防控
J4: 智慧种植 | K4: 农业绿色发展监测 | L4: 智慧化应用 | M4: 池塘养殖上图入库现场核查 | N4: 秸秆离田利用补助 | O4: “两废”回收处置
A5: 合计 | C5: =SUM(D5:V5) -> 5406.75 | D5: =SUM(D6:D16) -> 50 | E5: =SUM(E6:E16) -> 55 | F5: =SUM(F6:F16) -> 685 | G5: =SUM(G6:G16) -> 30 | H5: =SUM(H6:H16) -> 40 | I5: =SUM(I6:I16) -> 617.75 | J5: =SUM(J6:J16) -> 110 | K5: =SUM(K6:K16) -> 180 | ... V5: =SUM(V6:V16) -> 404
A6: 1 | B6: 溧阳市 | C6: =SUM(D6:V6) -> 1683.57 | F6: 240 | I6: 75 | J6: 50 | K6: 25 | O6: 48 | P6: 54 | Q6: 11 | S6: 959.24 | T6: 177.5 | U6: 12.83 | V6: 31
A7: 2 | B7: 金坛区 | C7: =SUM(D7:V7) -> 1076.15 | F7: 80 | H7: 20 | I7: 50 | J7: 30 | K7: 45 | O7: 85 | P7: 48 | Q7: 6 | S7: 366.04 | T7: 75 | U7: 171.61 | V7: =84.5+15 -> 99.5
A8: 3 | B8: 武进区 | C8: =SUM(D8:V8) -> 667.28 | F8: 190 | I8: 100 | K8: 15 | N8: 85 | O8: 71.6 | P8: 23 | Q8: 4 | S8: 73 | T8: 70 | U8: 0.68 | V8: 35
A9: 4 | B9: 新北区 | C9: =SUM(D9:V9) -> 432.15 | F9: 60 | H9: 20 | I9: 20 | K9: 20 | N9: 42 | O9: 66.3 | P9: 10 | Q9: 4 | S9: 148.21 | T9: 15.5 | U9: 13.14 | V9: 13
A10: 5 | B10: 天宁区 | C10: =SUM(D10:V10) -> 97.45 | I10: 20 | K10: 15 | N10: 4.6 | O10: 10 | Q10: 0.5 | S10: 16.71 | T10: 24 | U10: 0.64 | V10: 6
A11: 6 | B11: 钟楼区 | C11: =SUM(D11:V11) -> 107.44 | I11: 20 | K11: 15 | O11: 16.5 | P11: 8 | Q11: 0.5 | S11: 4.84 | T11: 8 | U11: 31.1 | V11: 3.5
A12: 7 | B12: 经开区 | C12: =SUM(D12:V12) -> 204.96 | F12: 15 | I12: 45 | J12: 30 | K12: 45 | N12: 18.4 | O12: 2.6 | P12: 5 | Q12: 1 | S12: 31.96 | T12: 5 | V12: 6
A13: 8 | B13: 局本级 | C13: =SUM(D13:V13) -> 622.75 | D13: 50 | E13: 55 | I13: =187.75+100 -> 287.75 | L13: 90 | R13: 80 | T13: 60
A14: 9 | B14: 农业技术推广中心 | C14: =SUM(D14:V14) -> 130 | F14: 80 | G14: 30 | M14: 20
A15: 10 | B15: 动物疫病预防控制中心 | C15: =SUM(D15:V15) -> 230 | F15: 20 | V15: 210
A16: 11 | B16: 农产品质量安全中心 | C16: =SUM(D16:V16) -> 155 | T16: 155
A17: 责任处室 | D17: 产业化处 | F17: 科教处 | G17: 推广中心 | H17: 农机处 | I17: 办公室、信息处 | J17: 种植业处 | K17: 绿色发展处 | L17: 信息处 | M17: 推广中心 | N17: 绿色发展处 | O17: 种植业处 | P17: 种植业处 | Q17: 农田处 | R17: 农田处 | S17: 种植业处 | T17: 质监处 | U17: 畜牧兽医处

Sheet 乡村振兴专项
A1: 2025年乡村振兴专项资金（第一批）下达分配明细表
E2: 单位：万元
A3: 序号 | B3: 辖市、区 | C3: 合 计 | D3: 对口支援协作 | E3: 农民体协 | F3: 农村宅基地 “两项试点” | G3: 第二轮土地承包到期后再延长30年试点
A4: 合 计 | C4: =SUM(D4:G4) -> 753 | D4: =SUM(D5:D13) -> 80 | E4: =SUM(E5:E13) -> 120 | F4: =SUM(F5:F13) -> 103 | G4: =SUM(G5:G13) -> 450
A5: 1 | B5: 溧阳市 | C5: =SUM(D5:G5) -> 130.9 | F5: 10 | G5: 120.9
A6: 2 | B6: 金坛区 | C6: =SUM(D6:G6) -> 106.9 | F6: 10 | G6: 96.9
A7: 3 | B7: 武进区 | C7: =SUM(D7:G7) -> 98.9 | F7: 10 | G7: 88.9
A8: 4 | B8: 新北区 | C8: =SUM(D8:G8) -> 82.9 | F8: 10 | G8: 72.9
A9: 5 | B9: 天宁区 | C9: =SUM(D9:G9) -> 5 | F9: 5
A10: 6 | B10: 钟楼区 | C10: =SUM(D10:G10) -> 5 | F10: 5
A11: 7 | B11: 经开区 | C11: =SUM(D11:G11) -> 59 | F11: 35 | G11: 24
A12: 8 | B12: 局本级 | C12: =SUM(D12:G12) -> 234.4 | D12: 80 | E12: 120 | F12: 18 | G12: 16.4
A13: 9 | B13: 常州市自然资源和规划服务中心 | C13: =SUM(D13:G13) -> 30 | G13: 30
A14: 责任处站 | D14: 对外合作交流处 | E14: 办公室 | F14: 合作处 | G14: 政改处

Sheet Sheet1
