Workbook

Sheet 汇总表
A1: 附件1
A2: 2024年省级农业农村专项资金（第五批）分配汇总表
E3: 单位：万元
A4: 序号 | B4: 辖市、区 | C4: 合 计 | D4: 农业科技创新与推广专项 | E4: 农业公共服务专项
A5: 合 计 | C5: =SUM(D5:E5) -> 523 | D5: =SUM(D6:D10) -> 464 | E5: =SUM(E6:E10) -> 59
A6: 1 | B6: 金坛区 | C6: =SUM(D6:E6) -> 83.5 | D6: =科技创新与推广!C6 -> 83.5 | E6: 0
A7: 2 | B7: 新北区 | C7: =SUM(D7:E7) -> 83.5 | D7: =科技创新与推广!C7 -> 83.5 | E7: 0
A8: 3 | B8: 天宁区 | C8: =SUM(D8:E8) -> 83.5 | D8: =科技创新与推广!C8 -> 83.5 | E8: 0
A9: 4 | B9: 经开区 | C9: =SUM(D9:E9) -> 83.5 | D9: =科技创新与推广!C9 -> 83.5 | E9: 0
A10: 5 | B10: 市农业农村局本级 | C10: =SUM(D10:E10) -> 189 | D10: =科技创新与推广!C10 -> 130 | E10: ='农业公共服务 '!C6 -> 59

Sheet 科技创新与推广
A1: 附件1-1
A2: 2024年省级农业科技创新与推广补助专项资金下达分配明细表
E3: 单位：万元
A4: 序号 | B4: 辖 区 | C4: 合 计 | D4: 区域性基层农技推广服务 | E4: 新农人培育、高素质农民培育等
A5: 合 计 | C5: =SUM(D5:E5) -> 464 | D5: =SUM(D6:D10) -> 334 | E5: =SUM(E6:E10) -> 130
A6: 1 | B6: 金坛区 | C6: =SUM(D6:E6) -> 83.5 | D6: 83.5
A7: 2 | B7: 新北区 | C7: =SUM(D7:E7) -> 83.5 | D7: 83.5
A8: 3 | B8: 天宁区 | C8: =SUM(D8:E8) -> 83.5 | D8: 83.5
A9: 4 | B9: 经开区 | C9: =SUM(D9:E9) -> 83.5 | D9: 83.5
A10: 5 | B10: 市农业农村局本级 | C10: =SUM(D10:E10) -> 130 | E10: 130
A11: 责任处室 | D11: 合作处 | E11: 科教处

Sheet 农业公共服务 
A1: 附件1-2
A2: 2024年省级农业公共服务补助专项资金下达分配明细表
E3: 单位：万元
A4: 序号 | B4: 辖 区 | C4: 合 计 | D4: 农村沼气设施安全处置和农村能源安全生产排查整治 | E4: 农业农村大数据建设
A5: 合 计 | C5: =SUM(D5:E5) -> 59 | D5: =SUM(D6:D6) -> 9 | E5: =SUM(E6:E6) -> 50
A6: 1 | B6: 市农业农村局本级 | C6: =SUM(D6:E6) -> 59 | D6: 9 | E6: 50
A7: 责任处室 | D7: 绿发处 | E7: 信息处
