Workbook

Sheet 汇总表
A1: 附件：
A2: 2025年中央农业相关转移支付资金（第二批）下达汇总表
G3: 单位：万元
A4: 序号 | B4: 辖 区 | C4: 合 计 | D4: 中央耕地建设与利用资金 | E4: 中央农业产业发展资金 | F4: 中央农业经营主体能力提升资金 | G4: 中央防灾减灾和水利救灾（动物防疫补助）资金
A6: 合 计 | C6: =SUM(D6:G6) -> 3448.43 | D6: =SUM(D7:D13) -> 2871.43 | E6: =SUM(E7:E13) -> -30 | F6: =SUM(F7:F13) -> 566.1 | G6: =SUM(G7:G13) -> 40.9
A7: 1 | B7: 金坛区 | C7: =SUM(D7:G7) -> 2685.78 | D7: =中央耕地建设与利用!C6 -> 2508.79 | E7: =农业产业发展专项!C6 -> -90 | F7: =农业经营主体能力提升!C6 -> 226.89 | G7: =防灾减灾和水利救灾专项!C6 -> 40.1
A8: 2 | B8: 武进区 | C8: =SUM(D8:G8) -> 137.92 | D8: =中央耕地建设与利用!C7 -> 40.08 | E8: =农业产业发展专项!C7 -> -20 | F8: =农业经营主体能力提升!C7 -> 117.84 | G8: =防灾减灾和水利救灾专项!C7 -> 0
A9: 3 | B9: 新北区 | C9: =SUM(D9:G9) -> 418.22 | D9: =中央耕地建设与利用!C8 -> 311.56 | E9: =农业产业发展专项!C8 -> 0 | F9: =农业经营主体能力提升!C8 -> 106.66 | G9: =防灾减灾和水利救灾专项!C8 -> 0
A10: 4 | B10: 天宁区 | C10: =SUM(D10:G10) -> 72.36 | D10: =中央耕地建设与利用!C9 -> 4.61 | E10: =农业产业发展专项!C9 -> 60 | F10: =农业经营主体能力提升!C9 -> 6.95 | G10: =防灾减灾和水利救灾专项!C9 -> 0.8
A11: 5 | B11: 钟楼区 | C11: =SUM(D11:G11) -> 4.15 | D11: =中央耕地建设与利用!C10 -> 2.66 | E11: =农业产业发展专项!C10 -> 0 | F11: =农业经营主体能力提升!C10 -> 1.49 | G11: =防灾减灾和水利救灾专项!C10 -> 0
A12: 6 | B12: 经开区 | C12: =SUM(D12:G12) -> 30 | D12: =中央耕地建设与利用!C11 -> 3.73 | E12: =农业产业发展专项!C11 -> 20 | F12: =农业经营主体能力提升!C11 -> 6.27 | G12: =防灾减灾和水利救灾专项!C11 -> 0
A13: 7 | B13: 常州市农业综合技术推广中心 | C13: =SUM(D13:G13) -> 100 | F13: =农业经营主体能力提升!C12 -> 100

Sheet 中央耕地建设与利用
A1: 附件：
A2: 2025年中央耕地建设与利用资金（第一批） 下达分配明细表
F3: 单位：万元
A4: 序号 | B4: 辖 区 | C4: 合 计 | D4: 高标准农田 | E4: 化肥减量增效 | F4: 第三次土壤普查
A5: 合 计 | C5: =SUM(D5:F5) -> 2871.43 | D5: =SUM(D6:D11) -> 2742.53 | E5: =SUM(E6:E11) -> 45.9 | F5: =SUM(F6:F11) -> 83
A6: 1 | B6: 金坛区 | C6: =SUM(D6:F6) -> 2508.79 | D6: 2461.92 | E6: 17.7 | F6: 29.17
A7: 2 | B7: 武进区 | C7: =SUM(D7:F7) -> 40.08 | E7: 14.1 | F7: 25.98
A8: 3 | B8: 新北区 | C8: =SUM(D8:F8) -> 311.56 | D8: 280.61 | E8: 14.1 | F8: 16.85
A9: 4 | B9: 天宁区 | C9: =SUM(D9:F9) -> 4.61 | F9: 4.61
A10: 5 | B10: 钟楼区 | C10: =SUM(D10:F10) -> 2.66 | F10: 2.66
A11: 6 | B11: 经开区 | C11: =SUM(D11:F11) -> 3.73 | F11: 3.73
A12: 责 任 处 室 | D12: 农田处

Sheet 农业产业发展专项
A1: 附件：
A2: 2025年中央农业产业发展专项资金（第二批） 下达分配明细表
E3: 单位：万元
A4: 序号 | B4: 辖 区 | C4: 合 计 | D4: 调整农机购置与应用补贴 | E4: 农业种质资源保护 | F4: 核心育种场生产性能测定
A5: 合 计 | C5: =SUM(D5:F5) -> -30 | D5: =SUM(D6:D11) -> -300 | E5: =SUM(E6:E11) -> 120 | F5: =SUM(F6:F11) -> 150
A6: 1 | B6: 金坛区 | C6: =SUM(D6:F6) -> -90 | D6: -300 | E6: 60 | F6: 150
A7: 2 | B7: 武进区 | C7: =SUM(D7:F7) -> -20 | D7: -20 | E7: 0 | F7: 0
A8: 3 | B8: 新北区 | C8: =SUM(D8:F8) -> 0 | D8: 0 | E8: 0 | F8: 0
A9: 4 | B9: 天宁区 | C9: =SUM(D9:F9) -> 60 | D9: 0 | E9: 60 | F9: 0
A10: 5 | B10: 钟楼区 | C10: =SUM(D10:F10) -> 0 | D10: 0 | E10: 0 | F10: 0
A11: 6 | B11: 经开区 | C11: =SUM(D11:F11) -> 20 | D11: 20 | E11: 0 | F11: 0
A12: 责 任 处 室 | D12: 农机处 | E12: 科教处
A13: 备注：农机购置补贴实际下达300万元（通过常财农〔2025〕13号文件下大了600万元，本次调整300万元，实际该项目资金300万元）

Sheet 农业经营主体能力提升
A1: 附件：
A2: 2025年中央农业经营主体能力提升资金（第一批） 下达分配明细表
E3: 单位：万元
A4: 序号 | B4: 辖 区 | C4: 合计 | D4: 基层农技推广体系改革与建设项目 | E4: 新型农业经营主体培育单产提升
A5: 合 计 | C5: =SUM(D5:E5) -> 566.1 | D5: =SUM(D6:D12) -> 338 | E5: =SUM(E6:E12) -> 228.1
A6: 1 | B6: 金坛区 | C6: =SUM(D6:E6) -> 226.89 | D6: 92.85 | E6: 134.04
A7: 2 | B7: 武进区 | C7: =SUM(D7:E7) -> 117.84 | D7: 80.5 | E7: 37.34
A8: 3 | B8: 新北区 | C8: =SUM(D8:E8) -> 106.66 | D8: 64.65 | E8: 42.01
A9: 4 | B9: 天宁区 | C9: =SUM(D9:E9) -> 6.95 | E9: 6.95
A10: 5 | B10: 钟楼区 | C10: =SUM(D10:E10) -> 1.49 | E10: 1.49
A11: 6 | B11: 经开区 | C11: =SUM(D11:E11) -> 6.27 | E11: 6.27
A12: 7 | B12: 常州市农业综合技术推广中心 | C12: =SUM(D12:E12) -> 100 | D12: 100
A13: 责 任 处 室 | D13: 科教处 | E13: 种植业处

Sheet 防灾减灾和水利救灾专项
A1: 附件：
A2: 2025年中央防灾减灾和水利救灾资金 （动物防疫补助） （第二批）下达分配明细表
E3: 单位：万元
A4: 序号 | B4: 辖 区 | C4: 合 计 | D4: 强制免疫 | E4: 养殖环节无害化处理
A5: 合 计 | C5: =SUM(D5:E5) -> 40.9 | D5: =SUM(D6:D11) -> 40.1 | E5: =SUM(E6:E11) -> 0.8
A6: 1 | B6: 金坛区 | C6: =SUM(D6:E6) -> 40.1 | D6: 40.1
A7: 2 | B7: 武进区 | C7: =SUM(D7:E7) -> 0
A8: 3 | B8: 新北区 | C8: =SUM(D8:E8) -> 0
A9: 4 | B9: 天宁区 | C9: =SUM(D9:E9) -> 0.8 | E9: 0.8
A10: 5 | B10: 钟楼区 | C10: =SUM(D10:E10) -> 0
A11: 6 | B11: 经开区 | C11: =SUM(D11:E11) -> 0
A12: 责 任 处 室 | D12: 畜牧兽医处
