Workbook

Sheet 汇总表
A1: 附件1
A2: 2025年市级农业农村专项资金分配表（第二批）
E3: 单位：万元
A4: 序号 | B4: 地区及单位 | C4: 合 计 | D4: 现代农业发展专项 | E4: 乡村振兴专项
A5: 合 计 | C5: =SUM(D5:E5) -> 4065.93 | D5: =SUM(D6:D13) -> 1553.49 | E5: =SUM(E6:E13) -> 2512.44
A6: 1 | B6: 溧阳市 | C6: =SUM(D6:E6) -> 958 | D6: =现代农业发展专项!C7 -> 179 | E6: =乡村振兴专项!C6 -> 779
A7: 2 | B7: 金坛区 | C7: =SUM(D7:E7) -> 1125.92 | D7: =现代农业发展专项!C8 -> 608.92 | E7: =乡村振兴专项!C7 -> 517
A8: 3 | B8: 武进区 | C8: =SUM(D8:E8) -> 433 | D8: =现代农业发展专项!C9 -> 122 | E8: =乡村振兴专项!C8 -> 311
A9: 4 | B9: 新北区 | C9: =SUM(D9:E9) -> 299.57 | D9: =现代农业发展专项!C10 -> 83.57 | E9: =乡村振兴专项!C9 -> 216
A10: 5 | B10: 天宁区 | C10: =SUM(D10:E10) -> 325 | D10: =现代农业发展专项!C11 -> 215 | E10: =乡村振兴专项!C10 -> 110
A11: 6 | B11: 钟楼区 | C11: =SUM(D11:E11) -> 402 | D11: =现代农业发展专项!C12 -> 115 | E11: =乡村振兴专项!C11 -> 287
A12: 7 | B12: 经开区 | C12: =SUM(D12:E12) -> 145 | D12: =现代农业发展专项!C13 -> 20 | E12: =乡村振兴专项!C12 -> 125
A13: 8 | B13: 局本级 | C13: =SUM(D13:E13) -> 377.44 | D13: =现代农业发展专项!C14 -> 210 | E13: =乡村振兴专项!C13 -> 167.44

Sheet 现代农业发展专项
A1: 附件1-1
A2: 2025年市级现代农业发展专项资金（第二批）明细表
J3: 单位：万元
A4: 序号 | B4: 地区及单位 | C4: 合计 | D4: 现代农业发展先建后补项目 | E4: 农业科技创新中心 | F4: 农业品牌推介 | G4: 农文旅融合 | H4: 智慧渔业 | I4: 高标准农田管护 | J4: 高标准农田建设
A6: 合计 | C6: =SUM(D6:J6) -> 1553.49 | D6: =SUM(D7:D14) -> 540 | E6: =SUM(E7:E14) -> 100 | F6: =SUM(F7:F14) -> 10 | G6: =SUM(G7:G14) -> 130 | H6: =SUM(H7:H14) -> 60 | I6: =SUM(I7:I14) -> 100 | J6: =SUM(J7:J14) -> 613.49
A7: 1 | B7: 溧阳市 | C7: =SUM(D7:J7) -> 179 | D7: 120 | G7: 20 | I7: 39
A8: 2 | B8: 金坛区 | C8: =SUM(D8:J8) -> 608.92 | D8: 100 | E8: 50 | G8: 20 | I8: 30 | J8: 408.92
A9: 3 | B9: 武进区 | C9: =SUM(D9:J9) -> 122 | D9: 20 | E9: 50 | F9: 10 | G9: 20 | I9: 22
A10: 4 | B10: 新北区 | C10: =SUM(D10:J10) -> 83.57 | G10: 20 | I10: 9 | J10: 54.57
A11: 5 | B11: 天宁区 | C11: =SUM(D11:J11) -> 215 | D11: 200 | G11: 15
A12: 6 | B12: 钟楼区 | C12: =SUM(D12:J12) -> 115 | D12: 100 | G12: 15
A13: 7 | B13: 经开区 | C13: =SUM(D13:J13) -> 20 | G13: 20
A14: 8 | B14: 局本级 | C14: =SUM(D14:J14) -> 210 | H14: 60 | J14: 150

Sheet 乡村振兴专项
A1: 附件1-2
A2: 2025年市级乡村振兴专项资金（第二批）明细表
A4: 序号 | B4: 地区及单位 | C4: 合 计 | D4: 农村集体经济发展先建后补项目 | E4: 茅山老区经济相对薄弱村帮扶 | F4: 农村人居环境整治提升（优秀村奖补） | G4: 农村公厕建设 | H4: 结对帮促 | I4: 开展农民体育运动
A5: 合 计 | C5: =SUM(D5:I5) -> 2512.44 | D5: =SUM(D6:D13) -> 1040 | E5: =SUM(E6:E13) -> 800 | F5: =SUM(F6:F13) -> 392.44 | G5: =SUM(G6:G13) -> 165 | H5: =SUM(H6:H13) -> 20 | I5: =SUM(I6:I13) -> 95
A6: 1 | B6: 溧阳市 | C6: =SUM(D6:I6) -> 779 | D6: 181 | E6: 486 | F6: 60 | G6: 52
A7: 2 | B7: 金坛区 | C7: =SUM(D7:I7) -> 517 | D7: 111 | E7: 314 | F7: 70 | G7: 2 | H7: 20
A8: 3 | B8: 武进区 | C8: =SUM(D8:I8) -> 311 | D8: 216 | F8: 80 | G8: 15
A9: 4 | B9: 新北区 | C9: =SUM(D9:I9) -> 216 | D9: 152 | F9: 40 | G9: 24
A10: 5 | B10: 天宁区 | C10: =SUM(D10:I10) -> 110 | D10: 78 | F10: 20 | G10: 12
A11: 6 | B11: 钟楼区 | C11: =SUM(D11:I11) -> 287 | D11: 251 | F11: 20 | G11: 16
A12: 7 | B12: 经开区 | C12: =SUM(D12:I12) -> 125 | D12: 51 | F12: 30 | G12: 44
A13: 8 | B13: 局本级 | C13: =SUM(D13:I13) -> 167.44 | F13: 72.44 | I13: 95
